BEGIN:VCALENDAR
VERSION:2.0
PRODID:-//jEvents 2.0 for Joomla//EN
CALSCALE:GREGORIAN
METHOD:PUBLISH
BEGIN:VEVENT
UID:f44b22921fa158735a7d49d95b60d903
CATEGORIES:Overnight Trip
CREATED:20251006T204014
SUMMARY:Rainbow Romp | Paske & Begley Huts
URL;VALUE=URI:https://www.live.nelsontrampingclub.org.nz/events/upcoming-events-report/15
 58/rainbow-romp-paske-begley-huts?tmpl=component
DESCRIPTION:RAINBOW VALLEY ROMP.\n \nDay 1: Travel up Wairau River past Rainbow ski-fie
 ld turn-off, to carpark. Walk about 5 hours, criss-crossing river to 6-bunk
  Paske Hut. This is a beautiful spot, with ample room for camping.\n \nDay 
 2: Return down Paske Valley. Head up Begley Creek to Begley Hut.\n \nDay 3:
  Return via Wairau River. (With a fit party &amp; superb weather, the Hamil
 ton River route could be used.)\n \nNote: This trip requires access permiss
 ion, and lower river levels.\n \n  This event was imported from: https://ww
 w.live.nelsontrampingclub.org.nz/events/upcoming-events-report/1558/rainbow
 -romp-paske-begley-huts?tmpl=component
X-ALT-DESC;FMTTYPE=text/html:RAINBOW VALLEY ROMP.<br /> <br />Day 1: Travel up Wairau River past Rainbow
  ski-field turn-off, to carpark. Walk about 5 hours, criss-crossing river t
 o 6-bunk Paske Hut. This is a beautiful spot, with ample room for camping.<
 br /> <br />Day 2: Return down Paske Valley. Head up Begley Creek to Begley
  Hut.<br /> <br />Day 3: Return via Wairau River. (With a fit party & super
 b weather, the Hamilton River route could be used.)<br /> <br />Note: This 
 trip requires access permission, and lower river levels.<br /> <br />  <a h
 ref="https://www.live.nelsontrampingclub.org.nz/events/upcoming-events-repo
 rt/1558/rainbow-romp-paske-begley-huts?tmpl=component">This event was impor
 ted from: https://www.live.nelsontrampingclub.org.nz/events/upcoming-events
 -report/1558/rainbow-romp-paske-begley-huts?tmpl=component</a>DTSTAMP:20260419T143315
DTSTART;VALUE=DATE:20260425
DTEND;VALUE=DATE:20260428
SEQUENCE:0
TRANSP:OPAQUE
END:VEVENT
END:VCALENDAR