BEGIN:VCALENDAR
VERSION:2.0
PRODID:-//jEvents 2.0 for Joomla//EN
CALSCALE:GREGORIAN
METHOD:PUBLISH
BEGIN:VEVENT
UID:ce71987a1ca9b9bfe70f4d5a23997e85
CATEGORIES:Overnight Trip
CREATED:20260210T090458
SUMMARY:Parachute Rocks
URL;VALUE=URI:https://www.live.nelsontrampingclub.org.nz/events/1587/parachute-rocks?tmpl
 =component
DESCRIPTION:Sorry folks - I'm making a short notice change to this short notice trip!  
 It will now be an overnight camping trip to St Arnaud Range via Parachute R
 ocks.  We will leave Nelson approx 11am, eat lunch on the shores of Lake Ro
 toiti, then walk up to the ridge in the afternoon to camp near one of the t
 arns.  Hopefully we will have suitable weather for tarn swimming and campin
 g under the stars.  Back down the same way on Sunday.Approx 5km up to the r
 idge, 1000m climb. Please register by Friday 2pm at the latest - thanks! Th
 is event was imported from: https://www.live.nelsontrampingclub.org.nz/even
 ts/1587/parachute-rocks?tmpl=component
X-ALT-DESC;FMTTYPE=text/html:Sorry folks - I'm making a short notice change to this short notice trip!  
 It will now be an overnight camping trip to St Arnaud Range via Parachute R
 ocks.  We will leave Nelson approx 11am, eat lunch on the shores of Lake Ro
 toiti, then walk up to the ridge in the afternoon to camp near one of the t
 arns.  Hopefully we will have suitable weather for tarn swimming and campin
 g under the stars.  Back down the same way on Sunday.Approx 5km up to the r
 idge, 1000m climb. Please register by Friday 2pm at the latest - thanks! <a
  href="https://www.live.nelsontrampingclub.org.nz/events/1587/parachute-roc
 ks?tmpl=component">This event was imported from: https://www.live.nelsontra
 mpingclub.org.nz/events/1587/parachute-rocks?tmpl=component</a>DTSTAMP:20260420T020624
DTSTART;VALUE=DATE:20260214
DTEND;VALUE=DATE:20260216
SEQUENCE:0
TRANSP:OPAQUE
END:VEVENT
END:VCALENDAR