BEGIN:VCALENDAR
VERSION:2.0
PRODID:-//jEvents 2.0 for Joomla//EN
CALSCALE:GREGORIAN
METHOD:PUBLISH
BEGIN:VEVENT
UID:f956a6ab97be3869a8a30411be2ce180
CATEGORIES:Extended Trip
CREATED:20251009T055002
SUMMARY:Travers Valley to Angelus via Sunset Saddle
URL;VALUE=URI:https://www.live.nelsontrampingclub.org.nz/events/1566/travers-valley-to-an
 gelus-via-sunset-saddle?tmpl=component
DESCRIPTION:A circuit from the Mt Robert carpark, up the Travers Valley to Hopeless Hut
  (first night). Then over Sunset Saddle to the Angelus basin where we will 
 find somewhere to camp. Return via the Robert Ridge if the weather allows, 
 or via Speargrass as an alternative. 3 Days. Tents required.Trip Leader : J
 o Gould\nPhone : 027 281 1548\nEmail : This email address is being protecte
 d from spambots. You need JavaScript enabled to view it.\nArea : Nelson Lak
 es National Park\nPanic Date : 02-03-2026\nEmergency Contact Name : Andrew 
 Russell\nContacts Address : 19 Avon Terrace, Nelson\nContacts Phone/s : 020
 40013737\nContacts Email Address : This email address is being protected fr
 om spambots. You need JavaScript enabled to view it.\nPlanned Route : A cir
 cuit from the lower Mt Robert carpark, up the Travers Valley to Hopeless Hu
 t (first night). Then over Sunset Saddle to the Angelus basin where we will
  find somewhere to camp. Return via the Robert Ridge if the weather allows,
  or via Speargrass as an alternative\nGrading : Select an appropriate grade
  for the hardest day on your Trip.\nGrade : Fit\nCost : The travel distance
 s are used to calculate the cost of a trip. The trip co-ordinator will comp
 lete these values. However, if you know the values, for example by using Go
 ogle Maps, then by all means complete. Make sure the values (double to incl
 ude return journey) are correct to be fair to the drivers and participants.
  IMPORTANT: The rate table needs to have a month and year value for cents/k
 ilometre. Trip coordinator is responsible to entering this information.\nSe
 aled km (Enter the number of kms travelled on sealed roads to/from the trip
 ) : 0\nUnsealed km (Enter the number of kms travelled on unsealed roads to/
 from trip.) : 0\nSignoff : Default is Programme, please set the Status to e
 ither 'Completed' or 'Cancelled' when appropriate. Also enter the number of
  Visitor and Total numbers on your trip. Thanks. NOTE: When the status is C
 ompleted or Cancelled the event WON'T appear on the Home page calendars.\nE
 vent Status : Cancelled\n This event was imported from: https://www.live.ne
 lsontrampingclub.org.nz/events/1566/travers-valley-to-angelus-via-sunset-sa
 ddle?tmpl=component
X-ALT-DESC;FMTTYPE=text/html:A circuit from the Mt Robert carpark, up the Travers Valley to Hopeless Hut
  (first night). Then over Sunset Saddle to the Angelus basin where we will 
 find somewhere to camp. Return via the Robert Ridge if the weather allows, 
 or via Speargrass as an alternative. 3 Days. Tents required.<table border='
 0'><tr><td class='label'>Trip Leader : </td><td><div class="jev_cfuser_prof
 ile"><div class="jev_cfuser_name">Jo Gould</div></div>\n</td></tr><tr><td c
 lass='label'>Phone : </td><td>027 281 1548\n</td></tr><tr><td class='label'
 >Email : </td><td><joomla-hidden-mail  is-link="1" is-email="0" first="am9t
 YXJ5Z28=" last="Z21haWwuY29t" text="am9tYXJ5Z29AZ21haWwuY29t" base="" >This
  email address is being protected from spambots. You need JavaScript enable
 d to view it.</joomla-hidden-mail>\n</td></tr><tr><td class='label'>Area : 
 </td><td>Nelson Lakes National Park\n</td></tr><tr><td class='label'>Panic 
 Date : </td><td>02-03-2026\n</td></tr><tr><td class='label'>Emergency Conta
 ct Name : </td><td>Andrew Russell\n</td></tr><tr><td class='label'>Contacts
  Address : </td><td>19 Avon Terrace, Nelson\n</td></tr><tr><td class='label
 '>Contacts Phone/s : </td><td>02040013737\n</td></tr><tr><td class='label'>
 Contacts Email Address : </td><td><joomla-hidden-mail  is-link="1" is-email
 ="0" first="YXJ1c3NlbGxlbWFpbA==" last="Z21haWwuY29t" text="YXJ1c3NlbGxlbWF
 pbEBnbWFpbC5jb20=" base="" >This email address is being protected from spam
 bots. You need JavaScript enabled to view it.</joomla-hidden-mail>\n</td></
 tr><tr><td class='label'>Planned Route : </td><td>A circuit from the lower 
 Mt Robert carpark, up the Travers Valley to Hopeless Hut (first night). The
 n over Sunset Saddle to the Angelus basin where we will find somewhere to c
 amp. Return via the Robert Ridge if the weather allows, or via Speargrass a
 s an alternative\n</td></tr><tr><td class='label'>Grading : </td><td>Select
  an appropriate grade for the hardest day on your Trip.\n</td></tr><tr><td 
 class='label'>Grade : </td><td>Fit\n</td></tr><tr><td class='label'>Cost : 
 </td><td>The travel distances are used to calculate the cost of a trip. The
  trip co-ordinator will complete these values. However, if you know the val
 ues, for example by using Google Maps, then by all means complete. Make sur
 e the values (double to include return journey) are correct to be fair to t
 he drivers and participants. IMPORTANT: The rate table needs to have a mont
 h and year value for cents/kilometre. Trip coordinator is responsible to en
 tering this information.\n</td></tr><tr><td class='label'>Sealed km (Enter 
 the number of kms travelled on sealed roads to/from the trip) : </td><td>0\
 n</td></tr><tr><td class='label'>Unsealed km (Enter the number of kms trave
 lled on unsealed roads to/from trip.) : </td><td>0\n</td></tr><tr><td class
 ='label'>Signoff : </td><td>Default is Programme, please set the Status to 
 either 'Completed' or 'Cancelled' when appropriate. Also enter the number o
 f Visitor and Total numbers on your trip. Thanks. NOTE: When the status is 
 Completed or Cancelled the event WON'T appear on the Home page calendars.\n
 </td></tr><tr><td class='label'>Event Status : </td><td>Cancelled\n</td></t
 r></table> <a href="https://www.live.nelsontrampingclub.org.nz/events/1566/
 travers-valley-to-angelus-via-sunset-saddle?tmpl=component">This event was 
 imported from: https://www.live.nelsontrampingclub.org.nz/events/1566/trave
 rs-valley-to-angelus-via-sunset-saddle?tmpl=component</a>DTSTAMP:20260420T004052
DTSTART;VALUE=DATE:20260227
DTEND;VALUE=DATE:20260302
SEQUENCE:0
TRANSP:OPAQUE
END:VEVENT
END:VCALENDAR