BEGIN:VCALENDAR
VERSION:2.0
PRODID:-//jEvents 2.0 for Joomla//EN
CALSCALE:GREGORIAN
METHOD:PUBLISH
BEGIN:VEVENT
UID:b9e5dafd61cee76d56068d8a3910cd00
CATEGORIES:Day Trip
CREATED:20251006T221855
SUMMARY:Beebys Hut
URL;VALUE=URI:https://www.live.nelsontrampingclub.org.nz/events/1559/beebys-hut?tmpl=comp
 onent
DESCRIPTION:From Beebys car park up through beech forest to the 4wd track leading to fi
 rstly Beebys Knob and then hut. Approx 15km with an 800m initial climb with
  extensive views. Good workout ahead of Wangapeka. <a href="https://www.liv
 e.nelsontrampingclub.org.nz/events/1559/beebys-hut?tmpl=component">This eve
 nt was imported from: https://www.live.nelsontrampingclub.org.nz/events/155
 9/beebys-hut?tmpl=component</a>DTSTAMP:20260420T053825
DTSTART;VALUE=DATE:20251214
DTEND;VALUE=DATE:20251215
SEQUENCE:0
TRANSP:OPAQUE
END:VEVENT
END:VCALENDAR