BEGIN:VCALENDAR
VERSION:2.0
PRODID:-//jEvents 2.0 for Joomla//EN
CALSCALE:GREGORIAN
METHOD:PUBLISH
BEGIN:VEVENT
UID:477c447294c15a32573647ae6dc09db7
CATEGORIES:Day Trip
CREATED:20251006T195946
SUMMARY:Wooded Peak via Dun Line
URL;VALUE=URI:https://www.live.nelsontrampingclub.org.nz/events/1555/wooded-peak-via-dun-
 line?tmpl=component
DESCRIPTION:<p><strong>Saturday:&nbsp;</strong>Weather dependant. Register now, then wa
 tch this space!&nbsp; Combo with Waimea Tramping Club!</p><p><strong>WOODED
  PEAK :</strong> An angular 1111m knob in Nelson' big backyard. You can see
  'Woody' from the airport.</p><p><strong>Deets:</strong> From the Brook Cam
 ping Grounds, climb up to Four Corners. Look for the olde NTC signpost. Str
 oll along the olde Dun Mtn tramline to rest at Third House Shelter (NTC pre
 sident Laurie Gibbs built the chimney.)</p><p>Further along the Dun line we
  emerge from the bush at Coad's Creek, the traditional rest stop where part
 ies once lit a fire and boiled the billy. Shortly after we reach Windy Poin
 t, and make a sharp left-hand-turn up Well Ridge - a track created by NTC a
 s an easier way to summit 'Woody' .</p><p>On the return journey, we may vis
 it Junction Saddle, or even climb The Fringe, depending on energy &amp; eth
 usiasm levels.</p><ul><li><strong>Time</strong>: Meet at Centre of NZ carpa
 rk, at 8:30am sharp. (Hardy Street East.)</li><li><strong>Tramping Time</st
 rong>: Allow 7-9 hours.</li><li><strong>Grade</strong>: Medium-Fit&nbsp; (F
 itness important as we're climbing up a steep ridge to the top. And it's a 
 loooong day.</li><li><strong>Route Description</strong>:&nbsp;<a href="http
 s://nelsontrails.co.nz/wooded-peak-track/">https://nelsontrails.co.nz/woode
 d-peak-track/</a></li><li><strong>Gear</strong>: Sturdy shoes, rain jacket,
  lunch and ample hydration, your personal first aid kit, etc. <br />The lea
 der will carry a PLB, camera and map.</li></ul> <a href="https://www.live.n
 elsontrampingclub.org.nz/events/1555/wooded-peak-via-dun-line?tmpl=componen
 t">This event was imported from: https://www.live.nelsontrampingclub.org.nz
 /events/1555/wooded-peak-via-dun-line?tmpl=component</a>DTSTAMP:20260420T071319
DTSTART;VALUE=DATE:20251115
DTEND;VALUE=DATE:20251116
SEQUENCE:0
TRANSP:OPAQUE
END:VEVENT
END:VCALENDAR