BEGIN:VCALENDAR
VERSION:2.0
PRODID:-//jEvents 2.0 for Joomla//EN
CALSCALE:GREGORIAN
METHOD:PUBLISH
BEGIN:VEVENT
UID:d26bf9d9adc625d53b3b341e7165c3f4
CATEGORIES:Extended Trip
CREATED:20251006T080039
SUMMARY:Wangapeka Track
URL;VALUE=URI:https://www.live.nelsontrampingclub.org.nz/events/1552/wangapeka-track?tmpl
 =component
DESCRIPTION:5 day tramp from Wangapeka through to Little Wanganui on the West Coast, go
 ing over Biggs Tops to Trevor Carter Hut. <br /> <br />Day 1 Rolling River 
 Junction Carpark to Stone Hut (10 Bunks) 6Hrs 19.7km. The Track follows the
  Wangapeka River all the way, Kings Hut is reached after 3.5hrs, Stone Hut 
  further 2.5hrs on.Day 2 Stone Hut to Trevor Carter Hut (12bunks) 6.5hrs. v
 ia Biggs TopsFrom Wangapeka Saddle follow a route to Biggs Tops. This route
  is not recommended in poor weather or after heavy rain. The highest point 
 is at 1384M then a steep descent to Trevor Carter Hut. Day 3  Follow the Ka
 ramea River and sidle through the bush to the Tabernacle Lookout above Saxo
 n Falls. The track then drops to Taipo footbridge, then climbs steadily abo
 ve the river for several km to Taipo Hut.Day 4 Taipo Hut to Belltowm Marunu
 i Hut (10bunks). 6.5hrs 10.2km. The route gradually gets steeper . towards 
 Stag Flat Bivvy, then steeply to Little Wanganui Saddle (1087M). It then dr
 ops steeply to Little Wanganui River. A swing bridge brings the track to th
 e true right of the river, continues to Tangent Creek, then climbs above th
 e river and sidles around the gorge. The track then drops back down to the 
 river and on to the hut.Day 5 Belltown Marunui Hut to Wangapeka road carpar
 k. 3hrs 10km. A quick sprint to the carpark via river flats, river bed and 
 an old access road. Meet the shuttle and travel back to Nelson <a href="htt
 ps://www.live.nelsontrampingclub.org.nz/events/1552/wangapeka-track?tmpl=co
 mponent">This event was imported from: https://www.live.nelsontrampingclub.
 org.nz/events/1552/wangapeka-track?tmpl=component</a>DTSTAMP:20260420T053825
DTSTART;VALUE=DATE:20251227
DTEND;VALUE=DATE:20260101
SEQUENCE:0
TRANSP:OPAQUE
END:VEVENT
END:VCALENDAR