BEGIN:VCALENDAR
VERSION:2.0
PRODID:-//jEvents 2.0 for Joomla//EN
CALSCALE:GREGORIAN
METHOD:PUBLISH
BEGIN:VEVENT
UID:57d13b886c481f2f20ac899422bc2642
CATEGORIES:Day Trip
CREATED:20250918T015938
SUMMARY:Takaka Hill Walkway and Via Ferrata
URL;VALUE=URI:https://www.live.nelsontrampingclub.org.nz/events/1547/takaka-hill-walkway-
 and-via-ferrata?tmpl=component
DESCRIPTION:<p><strong>POSTPONED due to unsettled weather.</strong></p><p>In Europe, cl
 imbing on wire ropes and ladders over, around and up rock faces is very pop
 ular. It is called Via Ferrata.(by wire??)</p><p>Takaka Hill is now home to
  NZ's second Via Ferrata (the first is a private one near Wanaka) Stage 1 o
 pened late last year and is free to access.... but you need to hire safety 
 gear. (<strong>$8/person</strong>&nbsp;from Ngarua Caves)</p><p>Stage 2 is 
 under construction and will be a longer, more thrilling experience. But Sta
 ge 1 is a good test of your confidence for climbing around cliff faces.</p>
 <p>There is a small "test climb" for people to check their confidence. If i
 t's not for you, the Walkway offers an alternative.</p><p>Let's check it ou
 t?&nbsp;&nbsp;<span color="#0432ff"><a href="https://viaferrata.org.nz/" cl
 ass=""></a><a href="https://viaferrata.org.nz/"></a><a href="https://viafer
 rata.org.nz/">https://viaferrata.org.nz/</a></span></p><p>&nbsp;</p> <a hre
 f="https://www.live.nelsontrampingclub.org.nz/events/1547/takaka-hill-walkw
 ay-and-via-ferrata?tmpl=component">This event was imported from: https://ww
 w.live.nelsontrampingclub.org.nz/events/1547/takaka-hill-walkway-and-via-fe
 rrata?tmpl=component</a>DTSTAMP:20260420T071525
DTSTART;VALUE=DATE:20251019
DTEND;VALUE=DATE:20251020
SEQUENCE:0
TRANSP:OPAQUE
END:VEVENT
END:VCALENDAR