BEGIN:VCALENDAR
VERSION:2.0
PRODID:-//jEvents 2.0 for Joomla//EN
CALSCALE:GREGORIAN
METHOD:PUBLISH
BEGIN:VEVENT
UID:462c40f4e8641a01468f6374dac43a3f
CATEGORIES:Club Night
CREATED:20250913T050521
SUMMARY:Trip Planning evening 6pm Honest Lawyer
URL;VALUE=URI:https://www.live.nelsontrampingclub.org.nz/events/1544/trip-planning-evenin
 g-6pm-honest-lawyer?tmpl=component
DESCRIPTION:<h1 style="text-align: center;"><strong>Trip Planning meeting 6pm at the Ho
 nest Lawyer.</strong></h1><h1 style="text-align: center;"><strong>Come to p
 lan our summer tramping programme. </strong></h1><h1 style="text-align: cen
 ter;"><strong>Trip leaders and all members welcome. </strong></h1><h1 style
 ="text-align: center;"><strong>Platters of food provided.</strong></h1><p>C
 ome with firm researched ideas for trips, vague ideas for destinations or a
  half planned idea. Think about day trips and multiday trips of various gra
 des.&nbsp;</p><p>Our club programme depends on those willing to lead trips,
  Trip Leaders - please mark it in your diary at this event. Other members -
 &nbsp; if you might be interested in leading a trip in the future - come al
 ong - perhaps we can set up a shared leadership trip for you to start, but 
 definately bring your ideas for destinations.</p><p>The next 6 months ahead
 , we should have the best weather for tramping and we have about 5 public h
 olidays for some good multiday tramps, lets do our best to get a programme 
 set up that comes from your trip ideas.</p><p>&nbsp;</p><p>RSVP to <joomla-
 hidden-mail  is-link="1" is-email="1" first="a2F0aC5iYWxsYW50aW5l" last="Z2
 1haWwuY29t" text="a2F0aC5iYWxsYW50aW5lQGdtYWlsLmNvbQ==" base="" >This email
  address is being protected from spambots. You need JavaScript enabled to v
 iew it.</joomla-hidden-mail></p> <a href="https://www.live.nelsontrampingcl
 ub.org.nz/events/1544/trip-planning-evening-6pm-honest-lawyer?tmpl=componen
 t">This event was imported from: https://www.live.nelsontrampingclub.org.nz
 /events/1544/trip-planning-evening-6pm-honest-lawyer?tmpl=component</a>DTSTAMP:20260420T071428
DTSTART;VALUE=DATE:20251006
DTEND;VALUE=DATE:20251007
SEQUENCE:0
TRANSP:OPAQUE
END:VEVENT
END:VCALENDAR