BEGIN:VCALENDAR
VERSION:2.0
PRODID:-//jEvents 2.0 for Joomla//EN
CALSCALE:GREGORIAN
METHOD:PUBLISH
BEGIN:VEVENT
UID:2c3b6b98eac35467f64b7ce9cc186004
CATEGORIES:Day Trip
CREATED:20250826T224915
SUMMARY:Takaka Hill & Via Ferrata
URL;VALUE=URI:https://www.live.nelsontrampingclub.org.nz/events/1541/takaka-hill-via-ferr
 ata?tmpl=component
DESCRIPTION:<p>POSTPONED to <strong>Sunday 19th October</strong> due to weather</p><p>&
 nbsp;</p><p>In Europe, climbing on wire ropes and ladders over, around and 
 up rock faces is very popular. It is called Via Ferrata.(by wire??)</p><p>T
 akaka Hill is now home to NZ's second Via Ferrata (the first is a private o
 ne near Wanaka) Stage 1 opened late last year and is free to access.... but
  you need to hire safety gear. (<strong>$8/person</strong> from Ngarua Cave
 s)</p><p>Stage 2 is under construction and will be a longer, more thrilling
  experience. But Stage 1 is a good test of your confidence for climbing aro
 und cliff faces.</p><p>There is a small "test climb" for people to check th
 eir confidence. If it's not for you, the Walkway offers an alternative.</p>
 <p>Let's check it out?&nbsp;&nbsp;<span style="text-decoration: underline;"
 ><span color="#0432ff" style="color: #0432ff;"><a href="https://viaferrata.
 org.nz/" class=""></a><a href="https://viaferrata.org.nz/">https://viaferra
 ta.org.nz/</a></span></span></p><p><span style="text-decoration: underline;
 ">PLAN</span>: Depart Nelson 8.30 am. Its about an hours drive, so I will b
 ook the safety gear for 10 am (or 10.30?) at Ngarua Caves. (That would allo
 w time for a coffee on the way for those who like a shot of caffeine.&nbsp;
  The Woolshed Cafe near the top doesn't open till October)</p><p>&nbsp;</p>
 <p>&nbsp;</p> <a href="https://www.live.nelsontrampingclub.org.nz/events/15
 41/takaka-hill-via-ferrata?tmpl=component">This event was imported from: ht
 tps://www.live.nelsontrampingclub.org.nz/events/1541/takaka-hill-via-ferrat
 a?tmpl=component</a>DTSTAMP:20260420T071253
DTSTART;VALUE=DATE:20250921
DTEND;VALUE=DATE:20250922
SEQUENCE:0
TRANSP:OPAQUE
END:VEVENT
END:VCALENDAR