BEGIN:VCALENDAR
VERSION:2.0
PRODID:-//jEvents 2.0 for Joomla//EN
CALSCALE:GREGORIAN
METHOD:PUBLISH
BEGIN:VEVENT
UID:6275546e41dbbd56d5a723dc04d23e60
CATEGORIES:Day Trip
CREATED:20250618T015645
SUMMARY:Nelson Lakes Day Trip TBC
URL;VALUE=URI:https://www.live.nelsontrampingclub.org.nz/events/1531/nelson-lakes-day-tri
 p-tbc?tmpl=component
DESCRIPTION:Mt Robert circuit + extension along Robert Ridge ( depending on time )Proce
 eding snow or no snow.If snow all group members must carry and know how to 
 use crampons and ice axe. <a href="https://www.live.nelsontrampingclub.org.
 nz/events/1531/nelson-lakes-day-trip-tbc?tmpl=component">This event was imp
 orted from: https://www.live.nelsontrampingclub.org.nz/events/1531/nelson-l
 akes-day-trip-tbc?tmpl=component</a>DTSTAMP:20260420T071445
DTSTART;VALUE=DATE:20250803
DTEND;VALUE=DATE:20250804
SEQUENCE:0
TRANSP:OPAQUE
END:VEVENT
END:VCALENDAR