BEGIN:VCALENDAR
VERSION:2.0
PRODID:-//jEvents 2.0 for Joomla//EN
CALSCALE:GREGORIAN
METHOD:PUBLISH
BEGIN:VEVENT
UID:382e70943b05cb31b4441ee224f68c7a
CATEGORIES:Club Night
CREATED:20250612T084528
SUMMARY:AGM and presentation on Antarctica trip
URL;VALUE=URI:https://www.live.nelsontrampingclub.org.nz/events/1529/agm-and-presentation
 -on-antarctica-trip?tmpl=component
DESCRIPTION:<p>AGM and club night at Tahunanui Community Hub, 55 Muratai Street, Tahuna
 nui.&nbsp; Doors open at 7:30pm for a cuppa, AGM starts at 7:45.&nbsp; Gold
  coin donation for hall hire.</p><p>7:45:&nbsp; AGM</p><p>8:15: Presentatio
 n by Michele Cunningham and Peter Phipps about their recent trip to Antarct
 ica and the Sub-Antarctic Islands aboard the Heritage Expedition cruise.&nb
 sp;</p><p>Peter and Michele went on a 4 week expedition cruise to the Suban
 tarctic Islands and the Ross Sea region of Antarctica in February 2025, the
  ‘trip of a lifetime’.&nbsp; Come along to hear about their adventures, wit
 h a focus on the natural and human history of these areas, as well as their
  sea kayaking exploits on the journey.</p> <a href="https://www.live.nelson
 trampingclub.org.nz/events/1529/agm-and-presentation-on-antarctica-trip?tmp
 l=component">This event was imported from: https://www.live.nelsontrampingc
 lub.org.nz/events/1529/agm-and-presentation-on-antarctica-trip?tmpl=compone
 nt</a>DTSTAMP:20260420T071347
DTSTART;VALUE=DATE:20250818
DTEND;VALUE=DATE:20250819
SEQUENCE:0
TRANSP:OPAQUE
END:VEVENT
END:VCALENDAR