BEGIN:VCALENDAR
VERSION:2.0
PRODID:-//jEvents 2.0 for Joomla//EN
CALSCALE:GREGORIAN
METHOD:PUBLISH
BEGIN:VEVENT
UID:aa3d28b71f646a97c51ee7bfe8c93402
CATEGORIES:Day Trip
CREATED:20250505T221639
SUMMARY:Snow Skills Pop UP trip. Leader and date to be arranged.
URL;VALUE=URI:https://www.live.nelsontrampingclub.org.nz/events/1521/snow-skills-pop-up-t
 rip-leader-and-date-to-be-arranged?tmpl=component
DESCRIPTION:<p>Planned Snow Skills training trips in recent years have been canceled or
  limited because of insufficient snow cover. Lets take advantage when there
  is a good snow dump and arrange either a day or overnight trip to practice
  our snow skills.&nbsp;</p><p>Register your interest with Kath Ballantine <
 joomla-hidden-mail  is-link="1" is-email="1" first="a2F0aC5iYWxsYW50aW5l" l
 ast="Z21haWwuY29t" text="a2F0aC5iYWxsYW50aW5lQGdtYWlsLmNvbQ==" base="" >Thi
 s email address is being protected from spambots. You need JavaScript enabl
 ed to view it.</joomla-hidden-mail></p> <a href="https://www.live.nelsontra
 mpingclub.org.nz/events/1521/snow-skills-pop-up-trip-leader-and-date-to-be-
 arranged?tmpl=component">This event was imported from: https://www.live.nel
 sontrampingclub.org.nz/events/1521/snow-skills-pop-up-trip-leader-and-date-
 to-be-arranged?tmpl=component</a>DTSTAMP:20260420T071347
DTSTART;VALUE=DATE:20250816
DTEND;VALUE=DATE:20250817
SEQUENCE:0
TRANSP:OPAQUE
END:VEVENT
END:VCALENDAR