BEGIN:VCALENDAR
VERSION:2.0
PRODID:-//jEvents 2.0 for Joomla//EN
CALSCALE:GREGORIAN
METHOD:PUBLISH
BEGIN:VEVENT
UID:5f9f7f02fc1cdd0d1aca9d8a2199cfe5
CATEGORIES:Day Trip
CREATED:20250305T013838
SUMMARY:Bryant range viewpoint
URL;VALUE=URI:https://www.live.nelsontrampingclub.org.nz/events/1508/bryant-range-viewpoi
 nt?tmpl=component
DESCRIPTION:<p>Day trip to a clearing on the ridgeline of the Bryant Range to admire th
 e view.</p><p>This clearing is an isolated part of the mineral belt and is 
 clearly visible driving towards Blenheim before the Whangamoa saddle lookin
 g East on the ridgeline.</p><p>Leave Nelson at 8.30, park at the Whangamoa 
 saddle and follow Central road for 2 km, then is bushbashing in native fore
 st until point 1066 m, then down the ridge to the clearing and hopefully a 
 nice view.</p><p>11 km return, 1100 m total vertical, 7 hours return</p><p>
 Return the same way.</p><p>Limited water along the way, dense bush, come if
  you are fit and have a spirit of adventure. Recommended: gators, gloves an
 d safety goggles.</p><p>Will go ahead only with good weather forecasts.</p>
 <p>Map Series: BQ27</p> <a href="https://www.live.nelsontrampingclub.org.nz
 /events/1508/bryant-range-viewpoint?tmpl=component">This event was imported
  from: https://www.live.nelsontrampingclub.org.nz/events/1508/bryant-range-
 viewpoint?tmpl=component</a>DTSTAMP:20260420T071207
DTSTART;VALUE=DATE:20250323
DTEND;VALUE=DATE:20250324
SEQUENCE:0
TRANSP:OPAQUE
END:VEVENT
END:VCALENDAR