BEGIN:VCALENDAR
VERSION:2.0
PRODID:-//jEvents 2.0 for Joomla//EN
CALSCALE:GREGORIAN
METHOD:PUBLISH
BEGIN:VEVENT
UID:e70904495e86acc1a508e496f0691fa7
CATEGORIES:Club Night
CREATED:20250211T003753
SUMMARY:Trip Planning Evening. Mon 3rd Mar 6.30PM Tahunanui Hub. We invite trip leaders to bring their ideas and enthusiasm, and over pizza, we plan the trips for the year ahead.
URL;VALUE=URI:https://www.live.nelsontrampingclub.org.nz/events/1497/trip-planning-evenin
 g-mon-3rd-mar-6-30pm-tahunanui-hub-we-invite-trip-leaders-to-bring-their-id
 eas-and-enthusiasm,-and-over-pizza,-we-plan-the-trips-f?tmpl=component
DESCRIPTION:<p>Trip leaders are a valued group in our club, without you putting in the 
 efforts we would not be a Tramping club. Please come with your trip ideas, 
 easy or hard and everything in between, and help us set the programme for t
 he year ahead. Pizza and soft drinks provided.</p><p>RSVP to Kath - <joomla
 -hidden-mail  is-link="1" is-email="1" first="a2F0aC5iYWxsYW50aW5l" last="Z
 21haWwuY29t" text="a2F0aC5iYWxsYW50aW5lQGdtYWlsLmNvbQ==" base="" >This emai
 l address is being protected from spambots. You need JavaScript enabled to 
 view it.</joomla-hidden-mail>&nbsp;by Sun 2nd Mar or register online for th
 e event</p> <a href="https://www.live.nelsontrampingclub.org.nz/events/1497
 /trip-planning-evening-mon-3rd-mar-6-30pm-tahunanui-hub-we-invite-trip-lead
 ers-to-bring-their-ideas-and-enthusiasm,-and-over-pizza,-we-plan-the-trips-
 f?tmpl=component">This event was imported from: https://www.live.nelsontram
 pingclub.org.nz/events/1497/trip-planning-evening-mon-3rd-mar-6-30pm-tahuna
 nui-hub-we-invite-trip-leaders-to-bring-their-ideas-and-enthusiasm,-and-ove
 r-pizza,-we-plan-the-trips-f?tmpl=component</a>DTSTAMP:20260420T071209
DTSTART;VALUE=DATE:20250303
DTEND;VALUE=DATE:20250304
SEQUENCE:0
TRANSP:OPAQUE
END:VEVENT
END:VCALENDAR