BEGIN:VCALENDAR
VERSION:2.0
PRODID:-//jEvents 2.0 for Joomla//EN
CALSCALE:GREGORIAN
METHOD:PUBLISH
BEGIN:VEVENT
UID:4dcbecc1e15a022c8bb295789eb20aed
CATEGORIES:Overnight Trip
CREATED:20241212T072144
SUMMARY:North Twin
URL;VALUE=URI:https://www.live.nelsontrampingclub.org.nz/events/1488/north-twin?tmpl=comp
 onent
DESCRIPTION:Drive to Flora carpark, then walk towards The Twins. We will follow the Mt 
 Arthur track and then nip through a saddle between Winter Peak and Mt Arthu
 r. The track contours along the east side of the Arthur Range. We will camp
  by two tarns located south of Pt 1753 at about 1580m. Camping space is not
  exactly flat, but make sure you accommodate each other to maximise the fla
 ttish areas.\nSunday an early start to climb the North Twin. Leave tents pi
 tched and any gear not required for the summit. Return the same way, collec
 t tents and gear. Return to the Mt Arthur track reversing our route of the 
 previous day.\n This event was imported from: https://www.live.nelsontrampi
 ngclub.org.nz/events/1488/north-twin?tmpl=component
X-ALT-DESC;FMTTYPE=text/html:<p>Drive to Flora carpark, then walk towards The Twins.&nbsp;We will follow
  the Mt Arthur track and then nip through a saddle between Winter Peak and 
 Mt Arthur. The track contours along the east side of the Arthur Range. We w
 ill camp by two tarns located south of Pt 1753 at about 1580m. Camping spac
 e is not exactly flat, but make sure you accommodate each other to maximise
  the flattish areas.</p><p>Sunday an early start to climb the North Twin. L
 eave tents pitched and any gear not required for the summit. Return the sam
 e way, collect tents and gear. Return to the Mt Arthur track reversing our 
 route of the previous day.</p> <a href="https://www.live.nelsontrampingclub
 .org.nz/events/1488/north-twin?tmpl=component">This event was imported from
 : https://www.live.nelsontrampingclub.org.nz/events/1488/north-twin?tmpl=co
 mponent</a>DTSTAMP:20260420T070221
DTSTART;VALUE=DATE:20250308
DTEND;VALUE=DATE:20250310
SEQUENCE:0
TRANSP:OPAQUE
END:VEVENT
END:VCALENDAR