BEGIN:VCALENDAR
VERSION:2.0
PRODID:-//jEvents 2.0 for Joomla//EN
CALSCALE:GREGORIAN
METHOD:PUBLISH
BEGIN:VEVENT
UID:7ab2ad897317866b330c96b2778a8a9f
CATEGORIES:Day Trip
CREATED:20241028T091522
SUMMARY:Pearse Valley Route to Pearse River Resurgence 
URL;VALUE=URI:https://www.live.nelsontrampingclub.org.nz/events/1477/pearse-valley-route-
 to-pearse-river-resurgence?tmpl=component
DESCRIPTION:<p>Start from the end of Pearse Valley Road in the Motueka Valley.&nbsp; Fo
 llow the Pearse River upstream with multiple river crossings, until we get 
 to a large grassy clearing near the resurgence of the Pearse River, where t
 he river emerges from the caves under the Pearse Valley. Beautiful clear wa
 ter and interesting karst features.&nbsp; 5km each way, approx 6 hours retu
 rn.&nbsp; High chance of seeing whio (blue duck).&nbsp; There are multiple 
 river crossings on this walk with slippery rocks, and the water is very col
 d.&nbsp; Come wearing boots or shoes with good grip that you are happy to g
 et wet.&nbsp; A walking pole or two will also be handy.&nbsp; We will need 
 good weather without recent heavy rain.&nbsp; 4WD vehicles needed to access
  the road end.&nbsp;</p><p></p> <a href="https://www.live.nelsontrampingclu
 b.org.nz/events/1477/pearse-valley-route-to-pearse-river-resurgence?tmpl=co
 mponent">This event was imported from: https://www.live.nelsontrampingclub.
 org.nz/events/1477/pearse-valley-route-to-pearse-river-resurgence?tmpl=comp
 onent</a>DTSTAMP:20260420T071125
DTSTART;VALUE=DATE:20250119
DTEND;VALUE=DATE:20250120
SEQUENCE:0
TRANSP:OPAQUE
END:VEVENT
END:VCALENDAR