BEGIN:VCALENDAR
VERSION:2.0
PRODID:-//jEvents 2.0 for Joomla//EN
CALSCALE:GREGORIAN
METHOD:PUBLISH
BEGIN:VEVENT
UID:a64adc52d455d1b93f87a349761846a7
CATEGORIES:Day Trip
CREATED:20240828T235942
SUMMARY:Lake Head Hut Family trip
URL;VALUE=URI:https://www.live.nelsontrampingclub.org.nz/events/1466/lake-head-hut-family
 -trip?tmpl=component
DESCRIPTION:<p>Day walk to Lakehead Hut. Could return by water taxi if wanted. Children
  welcome.</p><p>We will meet at Kerr Bay at 9.30. ( will organising car poo
 ling from Nelson). Walk to Lake head Hut &amp; have lunch Approx 3.5hrs eas
 y walk on a good track. Return - walk 10mins to Jetty and take water taxi b
 ack to Kerr Bay at approx 2.30 - 3pm.</p><p>Water taxi cost is $40 one way,
  $30 for children under 14.</p> <a href="https://www.live.nelsontrampingclu
 b.org.nz/events/1466/lake-head-hut-family-trip?tmpl=component">This event w
 as imported from: https://www.live.nelsontrampingclub.org.nz/events/1466/la
 ke-head-hut-family-trip?tmpl=component</a>DTSTAMP:20260420T071254
DTSTART;VALUE=DATE:20250126
DTEND;VALUE=DATE:20250127
SEQUENCE:0
TRANSP:OPAQUE
END:VEVENT
END:VCALENDAR