BEGIN:VCALENDAR
VERSION:2.0
PRODID:-//jEvents 2.0 for Joomla//EN
CALSCALE:GREGORIAN
METHOD:PUBLISH
BEGIN:VEVENT
UID:688265ae80fa732fb396b3fc8c442d3f
CATEGORIES:Day Trip
CREATED:20240529T080958
SUMMARY:Parachute Rocks
URL;VALUE=URI:https://www.live.nelsontrampingclub.org.nz/events/1440/parachute-rocks?tmpl
 =component
DESCRIPTION:<p>Join me for a jaunt up to Parachute Rocks from St Arnaud.&nbsp; Option t
 o continue up to the ridge.&nbsp; 10km return, approx 1000m climb, approx 5
 -6 hours return.&nbsp; Steep climb through the bush and out onto the tops f
 or spectacular views over Lake Rotoiti while we eat lunch.&nbsp;&nbsp;</p><
 p>Short notice trip due to long weekend trip needing to be cancelled.&nbsp;
  Please register by Friday evening if you wish to join.&nbsp;</p> <a href="
 https://www.live.nelsontrampingclub.org.nz/events/1440/parachute-rocks?tmpl
 =component">This event was imported from: https://www.live.nelsontrampingcl
 ub.org.nz/events/1440/parachute-rocks?tmpl=component</a>DTSTAMP:20260420T085445
DTSTART;VALUE=DATE:20240602
DTEND;VALUE=DATE:20240603
SEQUENCE:0
TRANSP:OPAQUE
END:VEVENT
END:VCALENDAR