BEGIN:VCALENDAR
VERSION:2.0
PRODID:-//jEvents 2.0 for Joomla//EN
CALSCALE:GREGORIAN
METHOD:PUBLISH
BEGIN:VEVENT
UID:adc5051168b9110521b9e58712ac3d1d
CATEGORIES:Summer Hill Series
CREATED:20240526T234705
SUMMARY:SUMMER HILL SERIES - Scout Track/Involution MTB Trail
URL;VALUE=URI:https://www.live.nelsontrampingclub.org.nz/events/1439/summer-hill-series-s
 cout-track-involution-mtb-trail?tmpl=component
DESCRIPTION:Meet at Marsden Valley car park at 5:30pm. Walk up 4wd track to Involution 
 turnoff. Either walk up Involution or continue up the road and ascend Scout
  Track. Meet at tracks junction and then descend Involution.\nMedium up Inv
 olution; fit up Scout Track.\nNo registration; just turn up.\n This event w
 as imported from: https://www.live.nelsontrampingclub.org.nz/events/1439/su
 mmer-hill-series-scout-track-involution-mtb-trail?tmpl=component
X-ALT-DESC;FMTTYPE=text/html:<p>Meet at Marsden Valley car park at 5:30pm. Walk up 4wd track to Involuti
 on turnoff. Either walk up Involution or continue up the road and ascend Sc
 out Track. Meet at tracks junction and then descend Involution.</p><p>Mediu
 m up Involution; fit up Scout Track.</p><p>No registration; just turn up.</
 p> <a href="https://www.live.nelsontrampingclub.org.nz/events/1439/summer-h
 ill-series-scout-track-involution-mtb-trail?tmpl=component">This event was 
 imported from: https://www.live.nelsontrampingclub.org.nz/events/1439/summe
 r-hill-series-scout-track-involution-mtb-trail?tmpl=component</a>DTSTAMP:20260420T085200
DTSTART;VALUE=DATE:20241120
DTEND;VALUE=DATE:20241121
SEQUENCE:0
TRANSP:OPAQUE
END:VEVENT
END:VCALENDAR