BEGIN:VCALENDAR
VERSION:2.0
PRODID:-//jEvents 2.0 for Joomla//EN
CALSCALE:GREGORIAN
METHOD:PUBLISH
BEGIN:VEVENT
UID:fe8506a603392e72c177f0594dbb2c61
CATEGORIES:Extended Trip
CREATED:20240526T232153
SUMMARY:Abel Tasman walkabout (cancelled)
URL;VALUE=URI:https://www.live.nelsontrampingclub.org.nz/events/1437/abel-tasman-walkabou
 t-cancelled?tmpl=component
DESCRIPTION:<p>Start at Marahau. Stay Tuesday night at Anchorage, Wednesday night at Aw
 aroa, Thursday night at Awapoto, Friday night at Castle Rocks, and return t
 o Marahau on Saturday.</p><p>An alternative trip would be a crossover of th
 e Inland Track, starting at Marahau and either Totaranui or Wainui Bays - 3
  days.</p><p>THE TRIP IS NOW CANCELED&nbsp;</p> <a href="https://www.live.n
 elsontrampingclub.org.nz/events/1437/abel-tasman-walkabout-cancelled?tmpl=c
 omponent">This event was imported from: https://www.live.nelsontrampingclub
 .org.nz/events/1437/abel-tasman-walkabout-cancelled?tmpl=component</a>DTSTAMP:20260420T085349
DTSTART;VALUE=DATE:20240924
DTEND;VALUE=DATE:20240929
SEQUENCE:0
TRANSP:OPAQUE
END:VEVENT
END:VCALENDAR