BEGIN:VCALENDAR
VERSION:2.0
PRODID:-//jEvents 2.0 for Joomla//EN
CALSCALE:GREGORIAN
METHOD:PUBLISH
BEGIN:VEVENT
UID:860a6a68ff66c9af84435d0953eac60d
CATEGORIES:Extended Trip
CREATED:20240511T201321
SUMMARY:Discover D'Urville Island 
URL;VALUE=URI:https://www.live.nelsontrampingclub.org.nz/events/1422/discover-d-urville-i
 sland?tmpl=component
DESCRIPTION:<p>Kings Birthday Weekend (Fri 30 May - Mon 2 June&nbsp; 2025)&nbsp;<strong
 > NOTE: We need to cross to the island on FRIDAY afternoon as the ferry doe
 s not operate on Saturdays!&nbsp;</strong>Plan to return to Nelson late Mon
 day afternoon.</p><p>D'Urville Island is just a short distance from French 
 Pass but few have been there. It is the largest island in the Sounds. A ver
 y recent visitor was ex DOC CEO- Lou Sanson. here is his report:-</p><p><a 
 href="https://www.thepress.co.nz/nz-news/360625677/wild-windswept-and-wonde
 rful-visiting-durville-island">https://www.thepress.co.nz/nz-news/360625677
 /wild-windswept-and-wonderful-visiting-durville-island</a></p><p>Gerard Hin
 dmarsh has written a fascinating book based on the island called "<em>Angel
 ina; From Stromboli to D'Urville"</em> about his grandmother. Gerard also w
 rote another interesting article about the island's history in July 2018&nb
 sp; &nbsp;</p><p><a href="https://www.stuff.co.nz/nelson-mail/105460526/dur
 ville-island-delivers-a-rich-heritage">https://www.stuff.co.nz/nelson-mail/
 105460526/durville-island-delivers-a-rich-heritage</a></p><p>Our sister clu
 b Waimea has been there and the trip is always a sell out. It will involve 
 a barge trip to and from the island plus accommdation at the Community Hall
  which will be comfortable and cosy if the weather is 'cooler'!.</p><p>For 
 more background to the island follow this link to an interesting article in
 &nbsp; NZ Geographic magazine:&nbsp;<a href="https://www.nzgeo.com/stories/
 durvilles-forgotten-island/">https://www.nzgeo.com/stories/durvilles-forgot
 ten-island/</a></p><p><span style="text-decoration: underline;">Getting The
 re</span>: There is a barge that can carry two vehicles at a time across Fr
 ench Pass. Cost per person <strong>$50 return</strong> [5 people/car] Mount
 ain bikes&nbsp; and Passengers only $80 return. The island is some 60 km lo
 ng, so a bit too far to walk everywhere!</p><p><span style="text-decoration
 : underline;">Accommodation</span>: The <strong>Community Hall</strong> whi
 ch is close to the middle of the island has full kitchen and bathroom facil
 ities plus bunkroom and 'spare' mattresses for perhpas 20 people.</p><p>Cos
 t- $15.night/person.</p><p><strong>Camping</strong>: There is a DOC camp at
  Greville Harbour for those who wish to 'rough it'. <strong>Other Options:<
 /strong> The Wilderness Resort is fully booked on Sat 31st!</p><p><strong>G
 lamping: </strong>There is private accomodation (Sea Spray Cottage) at Wait
 ai Station at the northern end of the island for up to 6 people. Waitai Sta
 tion is where Angelina once lived.</p><p>Contact John and Tracey Gibbs, Wai
 tai Station</p><div>Phone: 027 576 5205</div><div>Email:&nbsp;<a href="mail
 to:waitaistationnz@gmail.com"></a><joomla-hidden-mail  is-link="1" is-email
 ="1" first="d2FpdGFpc3RhdGlvbm56" last="Z21haWwuY29t" text="d2FpdGFpc3RhdGl
 vbm56QGdtYWlsLmNvbQ==" base="" >This email address is being protected from 
 spambots. You need JavaScript enabled to view it.</joomla-hidden-mail></div
 ><div></div><div><strong>SUMMARY:</strong> It will cost just around <strong
 >$150/person</strong> for transport, food and accommodation. Not cheap, but
  a one-off experience for most ,if not all of us?</div><div><strong><span s
 tyle="text-decoration: underline;">BOOKINGS CLOSED</span></strong></div><p>
 </p><p></p> <a href="https://www.live.nelsontrampingclub.org.nz/events/1422
 /discover-d-urville-island?tmpl=component">This event was imported from: ht
 tps://www.live.nelsontrampingclub.org.nz/events/1422/discover-d-urville-isl
 and?tmpl=component</a>DTSTAMP:20260420T071253
DTSTART;VALUE=DATE:20250530
DTEND;VALUE=DATE:20250603
SEQUENCE:0
TRANSP:OPAQUE
END:VEVENT
END:VCALENDAR