BEGIN:VCALENDAR
VERSION:2.0
PRODID:-//jEvents 2.0 for Joomla//EN
CALSCALE:GREGORIAN
METHOD:PUBLISH
BEGIN:VEVENT
UID:3e38c81394fbe89e25bce3b1d1a2123b
CATEGORIES:Overnight Trip
CREATED:20240510T071910
SUMMARY:North Twin
URL;VALUE=URI:https://www.live.nelsontrampingclub.org.nz/events/1420/north-twin?tmpl=comp
 onent
DESCRIPTION:UpdateDue to the weather, this trip has been rescheduled for March 8 - 9, 2
 025.DetailsDrive to Flora carpark, then walk towards The Twins. Current tho
 ughts are to leave some gear along our route to pickup on our return. Then 
 drop down to Ellis Basin Hut. Alternatively, camp by some tarns along the r
 oute. Setup camp on Saturday, then continue onto North Twin and return to c
 ampsite.  The latter is preferred, but one time the tarns were a green colo
 ur, so dropping down might be a good option if this is the case.\nMore deta
 ils later.\n This event was imported from: https://www.live.nelsontrampingc
 lub.org.nz/events/1420/north-twin?tmpl=component
X-ALT-DESC;FMTTYPE=text/html:<h2>Update</h2><h2><span style="text-decoration: underline;">Due to the wea
 ther, this trip has been rescheduled for March 8 - 9, 2025.</span></h2><h2>
 Details</h2><p>Drive to Flora carpark, then walk towards The Twins. Current
  thoughts are to leave some gear along our route to pickup on our return. T
 hen drop down to Ellis Basin Hut. Alternatively, camp by some tarns along t
 he route. Setup camp on Saturday, then continue onto North Twin and return 
 to campsite.&nbsp; The latter is preferred, but one time the tarns were a g
 reen colour, so dropping down might be a good option if this is the case.</
 p><p>More details later.</p> <a href="https://www.live.nelsontrampingclub.o
 rg.nz/events/1420/north-twin?tmpl=component">This event was imported from: 
 https://www.live.nelsontrampingclub.org.nz/events/1420/north-twin?tmpl=comp
 onent</a>DTSTAMP:20260420T085307
DTSTART;VALUE=DATE:20241214
DTEND;VALUE=DATE:20241216
SEQUENCE:0
TRANSP:OPAQUE
END:VEVENT
END:VCALENDAR