BEGIN:VCALENDAR
VERSION:2.0
PRODID:-//jEvents 2.0 for Joomla//EN
CALSCALE:GREGORIAN
METHOD:PUBLISH
BEGIN:VEVENT
UID:17351d192abd6381abf9e03135abaddd
CATEGORIES:Day Trip
CREATED:20240509T234106
SUMMARY:Track Marking the Zig Zag Track
URL;VALUE=URI:https://www.live.nelsontrampingclub.org.nz/events/1419/track-marking-the-zi
 g-zag-track?tmpl=component
DESCRIPTION:<p>If anyone is interested in helping to add track markers on the Zig Zag (
 Saddle Hill )Track. Please let me know ASAP.</p><p>The plan is to walk to t
 he top of the First Double and add markers as we return to Teal Saddle.</p>
 <p>Thanks, Graeme</p> <a href="https://www.live.nelsontrampingclub.org.nz/e
 vents/1419/track-marking-the-zig-zag-track?tmpl=component">This event was i
 mported from: https://www.live.nelsontrampingclub.org.nz/events/1419/track-
 marking-the-zig-zag-track?tmpl=component</a>DTSTAMP:20260420T085443
DTSTART;VALUE=DATE:20240514
DTEND;VALUE=DATE:20240515
SEQUENCE:0
TRANSP:OPAQUE
END:VEVENT
END:VCALENDAR