BEGIN:VCALENDAR
VERSION:2.0
PRODID:-//jEvents 2.0 for Joomla//EN
CALSCALE:GREGORIAN
METHOD:PUBLISH
BEGIN:VEVENT
UID:e28907de18b262ec332025b396743c9c
CATEGORIES:Day Trip
CREATED:20240505T043923
SUMMARY:Beebys Knob & Hut
URL;VALUE=URI:https://www.live.nelsontrampingclub.org.nz/events/1405/beebys-knob-hut?tmpl
 =component
DESCRIPTION:Note the new venue for club nights:\nTahunanui Community Hub at 55 Muritai 
 St, Tahunanui. Join us for a cuppa from 7.15pm.\nBeeby’s Knob (1442 m) is a
  peak in the southwestern corner of Mt Richmond Forest Park.\nFrom the car 
 park, the Beeby’s Walking Track climbs and sidles the hillside through beec
 h forest, reaching a wide saddle where beautiful beech forest and mossy log
 s cover the forest floor. The track steepens as it climbs the side of broad
  spur, and once on the crest, the gradient lessens. As the track progresses
  up the spur the beech trees gradually become shorter and thinner.\nThe tra
 ck connects with Beeby’s 4WD road at the top of range. Turn left here and f
 ollow the road as it soon reaches the turnoff to Maitland Ridge Track at th
 e tree line. The road continues along the range through open tussock and al
 pine herbs. The summit is 1.8 km beyond the Maitland Ridge turnoff. It is n
 ot signposted, though you will see the trig and a group of transmitters on 
 top a rounded knob, which is a short deviation off the road.\nThe 4WD road 
 continues for quite a distance along the range. Beeby’s Hut is a further 1.
 8 km beyond the summit, located alongside the bush edge on the eastern side
  of the range.\n\nNote: Beeby’s Knob is a highly-exposed alpine environment
 , so proper preparation and clothing is essential.\nDistance: 7.8 km one wa
 y to Beeby’s Hut. Time: Allow 7-8 hours. Elevation gain: 800m. Cost: $15 ea
 ch.\n This event was imported from: https://www.live.nelsontrampingclub.org
 .nz/events/1405/beebys-knob-hut?tmpl=component
X-ALT-DESC;FMTTYPE=text/html:<p><strong>Note the new venue for club nights:</strong></p><p><strong>Tahun
 anui Community Hub at 55 Muritai St, Tahunanui. Join us for a cuppa from 7.
 15pm.</strong></p><p>Beeby’s Knob (1442 m) is a peak in the southwestern co
 rner of Mt Richmond Forest Park.</p><p>From the car park, the Beeby’s Walki
 ng Track climbs and sidles the hillside through beech forest, reaching a wi
 de saddle where beautiful beech forest and mossy logs cover the forest floo
 r. The track steepens as it climbs the side of broad spur, and once on the 
 crest, the gradient lessens. As the track progresses up the spur the beech 
 trees gradually become shorter and thinner.</p><p>The track connects with B
 eeby’s 4WD road at the top of range. Turn left here and follow the road as 
 it soon reaches the turnoff to Maitland Ridge Track at the tree line. The r
 oad continues along the range through open tussock and alpine herbs. The su
 mmit is 1.8 km beyond the Maitland Ridge turnoff. It is not signposted, tho
 ugh you will see the trig and a group of transmitters on top a rounded knob
 , which is a short deviation off the road.</p><p>The 4WD road continues for
  quite a distance along the range. Beeby’s Hut is a further 1.8 km beyond t
 he summit, located alongside the bush edge on the eastern side of the range
 .<br /><br /><strong>Note</strong>: Beeby’s Knob is a highly-exposed alpine
  environment, so proper preparation and clothing is essential.<br /><strong
 >Distance</strong>: 7.8 km one way to Beeby’s Hut. <strong>Time</strong>: A
 llow 7-8 hours. <strong>Elevation gain</strong>: 800m. <strong>Cost: </stro
 ng>$15 each.</p> <a href="https://www.live.nelsontrampingclub.org.nz/events
 /1405/beebys-knob-hut?tmpl=component">This event was imported from: https:/
 /www.live.nelsontrampingclub.org.nz/events/1405/beebys-knob-hut?tmpl=compon
 ent</a>DTSTAMP:20260420T085310
DTSTART;VALUE=DATE:20240519
DTEND;VALUE=DATE:20240520
SEQUENCE:0
TRANSP:OPAQUE
END:VEVENT
END:VCALENDAR