BEGIN:VCALENDAR
VERSION:2.0
PRODID:-//jEvents 2.0 for Joomla//EN
CALSCALE:GREGORIAN
METHOD:PUBLISH
BEGIN:VEVENT
UID:e29473a8ff96bd7b9d9fa527e53a9ac4
CATEGORIES:Day Trip
CREATED:20240505T040355
SUMMARY:Wakamarina Track Crossover
URL;VALUE=URI:https://www.live.nelsontrampingclub.org.nz/events/1404/wakamarina-track-cro
 ssover?tmpl=component
DESCRIPTION:<p>Wakamarina Track. One fast party in from Kiwi Road, do a key swap and le
 ave by Wakamarina Road to Canvastown and a medium pace group do the trip in
  reverse. Leaders Kath Ballantine and David Loe.</p><p>DoC Track time for t
 his is 7hrs, Waimea TC did it in 6.5hrs with overnight packs a while back. 
 We will need to leave earlish to make use of the available daylight as it i
 s a longish drive to the South side.</p><p>Update 20.5.24</p><p>Kath will l
 ead the group going South to North as it starts at about 500m altitude. Dav
 id will lead in the other direction with consequently more climbing. We lea
 ve Cathedral steps at 7.30am.&nbsp;</p><p>Update 23.5.24</p><p>Kath no long
 er coming due to illness. Mike Drake will lead the second party. Both parti
 es are similar speed. Currently we have 9 registrants so 2 cars are close t
 o capacity. New registrants please be mindful that I may have to say you do
  an out and back tramp from the Canvastown side, meeting the crossover part
 y as they head north. Or if there are enough for 2 extra cars then you can 
 still do a crossover. Register anyway and I'll sort it out! Happy days and 
 more the merrier!</p> <a href="https://www.live.nelsontrampingclub.org.nz/e
 vents/1404/wakamarina-track-crossover?tmpl=component">This event was import
 ed from: https://www.live.nelsontrampingclub.org.nz/events/1404/wakamarina-
 track-crossover?tmpl=component</a>DTSTAMP:20260420T085351
DTSTART;VALUE=DATE:20240526
DTEND;VALUE=DATE:20240527
SEQUENCE:0
TRANSP:OPAQUE
END:VEVENT
END:VCALENDAR