BEGIN:VCALENDAR
VERSION:2.0
PRODID:-//jEvents 2.0 for Joomla//EN
CALSCALE:GREGORIAN
METHOD:PUBLISH
BEGIN:VEVENT
UID:696cdfe8a7a01ed9fd5aecb5cd7d1650
CATEGORIES:Day Trip
CREATED:20240503T094411
SUMMARY:Red Hills wander
URL;VALUE=URI:https://www.live.nelsontrampingclub.org.nz/events/1401/red-hills-wander?tmp
 l=component
DESCRIPTION:<p>Walk up to Red Hills hut then spend some time exploring the Red Hills be
 hind the hut before returning the same way.</p><p>May be time for a coffee 
 in St Arnaud before returning home.&nbsp;</p> <a href="https://www.live.nel
 sontrampingclub.org.nz/events/1401/red-hills-wander?tmpl=component">This ev
 ent was imported from: https://www.live.nelsontrampingclub.org.nz/events/14
 01/red-hills-wander?tmpl=component</a>DTSTAMP:20260420T085332
DTSTART;VALUE=DATE:20240908
DTEND;VALUE=DATE:20240909
SEQUENCE:0
TRANSP:OPAQUE
END:VEVENT
END:VCALENDAR