BEGIN:VCALENDAR
VERSION:2.0
PRODID:-//jEvents 2.0 for Joomla//EN
CALSCALE:GREGORIAN
METHOD:PUBLISH
BEGIN:VEVENT
UID:f09d812ea517ce87ae610c2383d29b94
CATEGORIES:Extended Trip
CREATED:20240502T230818
SUMMARY:Cupola Hut
URL;VALUE=URI:https://www.live.nelsontrampingclub.org.nz/events/1400/cupola-hut?tmpl=comp
 onent
DESCRIPTION:<p>POSTPONED from October</p><p></p><p>Explore Cupola basin, staying in the
  hut for two nights.</p><p>On Friday, very early start, drive to St Arnaud,
  water taxi and walk into Cupola Hut, about 7 or 8 hrs.</p><p>Saturday to e
 xplore the basin, possibly go up toward Mt Cupola.</p><p>Sunday walk back o
 ut, catch taxi back and late arrival in Nelson. Watertaxi $40 pp. Huts $10 
 per night or annual hut pass.</p><p>It's a long walk into Cupola, but not t
 echnical. We might split up into groups on Saturday, depending on where peo
 ple want to go explore. Will have to carry tents, as Cupola hut only has 8 
 bunks. And possibly ice axe for those who want to aim for Mt Cupola. I have
  not climbed it, so i wont lead that part, but Mike Drake has offered. Othe
 rwise, there is plenty to explore in the lower ranges.</p><p>We might have 
 some lucky people that dont have to work on Thursday and walk into Coldwate
 r or John Tait Hut Thursday afternoon, overnight there and join the others 
 coming from Nelson on Friday morning. We'll meet at the Coldwater water tax
 i jetty, then walk into Cupola all together.</p><p>Note: if I get more book
 ings then available spaces, I ll give priority to club members.</p> <a href
 ="https://www.live.nelsontrampingclub.org.nz/events/1400/cupola-hut?tmpl=co
 mponent">This event was imported from: https://www.live.nelsontrampingclub.
 org.nz/events/1400/cupola-hut?tmpl=component</a>DTSTAMP:20260420T085349
DTSTART;VALUE=DATE:20241206
DTEND;VALUE=DATE:20241209
SEQUENCE:0
TRANSP:OPAQUE
END:VEVENT
END:VCALENDAR