BEGIN:VCALENDAR
VERSION:2.0
PRODID:-//jEvents 2.0 for Joomla//EN
CALSCALE:GREGORIAN
METHOD:PUBLISH
BEGIN:VEVENT
UID:061082c53fc3ff91130872c24bff26b7
CATEGORIES:Day Trip
CREATED:20240411T010602
SUMMARY:Trip Planning evening
URL;VALUE=URI:https://www.live.nelsontrampingclub.org.nz/events/1394/trip-planning-evenin
 g?tmpl=component
DESCRIPTION:The Buxton, 223 Hardy st. at 6PM. Bar snacks will be provided.\nCome with y
 our trip ideas and a committment to getting some dates set on the calendar 
 for the next 6 months.\nIf you are willing to become a leader, we can set u
 p support for you and or do a co-leadership with for your first trip. We ar
 e needing more Easy/Medium Day Trip leaders. These are usually closer to Ne
 lson and are a good learning experience.  Please phone any of the following
  committee members if you'd like to talk further about what's involved: Kat
 h 027 931 5689; Graeme 022 162 1676 or Debbie  0211 192 0080.\nLook forward
  to seeing you at The Buxton\n This event was imported from: https://www.li
 ve.nelsontrampingclub.org.nz/events/1394/trip-planning-evening?tmpl=compone
 nt
X-ALT-DESC;FMTTYPE=text/html:<p>The Buxton, 223 Hardy st. at 6PM. Bar snacks will be provided.</p><p>Com
 e with your trip ideas and a committment to getting some dates set on the c
 alendar for the next&nbsp;6 months.</p><p>If you are willing to become a le
 ader, we can set up support for you and or do a co-leadership with for your
  first trip.&nbsp;We are needing more Easy/Medium Day Trip leaders. These a
 re usually closer to Nelson and are a good learning experience.&nbsp;&nbsp;
 Please phone any of the following committee members if you'd like to talk f
 urther about what's involved: Kath 027 931 5689; Graeme 022 162 1676 or Deb
 bie &nbsp;0211 192 0080.</p><p>Look forward to seeing you at The Buxton</p>
  <a href="https://www.live.nelsontrampingclub.org.nz/events/1394/trip-plann
 ing-evening?tmpl=component">This event was imported from: https://www.live.
 nelsontrampingclub.org.nz/events/1394/trip-planning-evening?tmpl=component<
 /a>DTSTAMP:20260420T083928
DTSTART;VALUE=DATE:20240501
DTEND;VALUE=DATE:20240502
SEQUENCE:0
TRANSP:OPAQUE
END:VEVENT
END:VCALENDAR