BEGIN:VCALENDAR
VERSION:2.0
PRODID:-//jEvents 2.0 for Joomla//EN
CALSCALE:GREGORIAN
METHOD:PUBLISH
BEGIN:VEVENT
UID:afa9f9284f040782943d7c9393a2ff5d
CATEGORIES:Day Trip
CREATED:20240222T193716
SUMMARY:Nydia Saddle
URL;VALUE=URI:https://www.live.nelsontrampingclub.org.nz/events/1378/nydia-saddle?tmpl=co
 mponent
DESCRIPTION:<p>A descent of approx 450m from Opouri Saddle following an old 'bridle' (h
 orse) track 3km down to near&nbsp; Duncans Bay. This goes through some magn
 ificent virgin native bush. A short drive to Duncan Bay from where we take&
 nbsp; the Nydia Track around Tennyson Inlet for approx 3km then another 3 k
 m through more stunning native bush for lunch at Nydia Saddle. (347m) We re
 turn the same way to the cars at Duncan Bay. Total distance 15 km on a gene
 rally well-formed and well-used track. Should be back in Nelson about 5 pm.
 </p> <a href="https://www.live.nelsontrampingclub.org.nz/events/1378/nydia-
 saddle?tmpl=component">This event was imported from: https://www.live.nelso
 ntrampingclub.org.nz/events/1378/nydia-saddle?tmpl=component</a>DTSTAMP:20260420T085514
DTSTART;VALUE=DATE:20240407
DTEND;VALUE=DATE:20240408
SEQUENCE:0
TRANSP:OPAQUE
END:VEVENT
END:VCALENDAR