BEGIN:VCALENDAR
VERSION:2.0
PRODID:-//jEvents 2.0 for Joomla//EN
CALSCALE:GREGORIAN
METHOD:PUBLISH
BEGIN:VEVENT
UID:95d6d856fa0d667eacf4835102c60808
CATEGORIES:Overnight Trip
CREATED:20240207T185517
SUMMARY:Bull Paddock Creek Hut
URL;VALUE=URI:https://www.live.nelsontrampingclub.org.nz/events/1374/bull-paddock-creek-h
 ut?tmpl=component
DESCRIPTION:<p>Back on my friends this weekend, all being well. Again depends on weathe
 r and river flows. Register your interest and we will stay in touch!</p> <a
  href="https://www.live.nelsontrampingclub.org.nz/events/1374/bull-paddock-
 creek-hut?tmpl=component">This event was imported from: https://www.live.ne
 lsontrampingclub.org.nz/events/1374/bull-paddock-creek-hut?tmpl=component</
 a>DTSTAMP:20260420T085500
DTSTART;VALUE=DATE:20240217
DTEND;VALUE=DATE:20240219
SEQUENCE:0
TRANSP:OPAQUE
END:VEVENT
END:VCALENDAR