BEGIN:VCALENDAR
VERSION:2.0
PRODID:-//jEvents 2.0 for Joomla//EN
CALSCALE:GREGORIAN
METHOD:PUBLISH
BEGIN:VEVENT
UID:bbe3273a3fb372d47fdbcd0fdcd63458
CATEGORIES:Day Trip
CREATED:20210415T131602
SUMMARY:Saddle Hill/ The Doubles Exploration
URL;VALUE=URI:https://www.live.nelsontrampingclub.org.nz/component/jevents/922/saddle-hil
 l-the-doubles-exploration?Itemid=111&amp;tmpl=component
DESCRIPTION:To replace the Mt Starvaell Tramp, I am planning to investigate an "old' tr
 ack/route to Saddle Hill from the top of Maungatapu Saddle. It has not been
  maintained after major windfall damage some 10+ years ago. Originally it w
 as well marked with its own picnic table and track sign! After many years h
 owever, the markers may be hard to find. We will take coloured tape to mark
  our route. It will take about two hours to walk up the old road to the sad
 dle. We would then follow the ridgeline (as well as we can)  through beech 
 forest across peak 1168 to Saddle Hill at 1215 m. There is a return track c
 alled the 'Zig Zag' that we may try to find for a possibly shorter return l
 eg. Plan to leave Nelson at 8 am for 8.30 start at Maitai Dam. Return to th
 e cars no later than 5 pm when the gates close!\n This event was imported f
 rom: https://www.live.nelsontrampingclub.org.nz/component/jevents/922/saddl
 e-hill-the-doubles-exploration?Itemid=111&amp;tmpl=component
X-ALT-DESC;FMTTYPE=text/html:<p>To replace the Mt Starvaell Tramp, I am planning to investigate an "old'
  track/route to Saddle Hill from the top of Maungatapu Saddle. It has not b
 een maintained after major windfall damage some 10+ years ago. Originally i
 t was well marked with its own picnic table and track sign! After many year
 s however, the markers may be hard to find. We will take coloured tape to m
 ark our route. It will take about two hours to walk up the old road to the 
 saddle. We would then follow the ridgeline (as well as we can)&nbsp; throug
 h beech forest across peak 1168 to Saddle Hill at 1215 m. There is a return
  track called the 'Zig Zag' that we may try to find for a possibly shorter 
 return leg. Plan to leave Nelson at 8 am for 8.30 start at Maitai Dam. Retu
 rn to the cars no later than 5 pm when the gates close!</p> <a href="https:
 //www.live.nelsontrampingclub.org.nz/component/jevents/922/saddle-hill-the-
 doubles-exploration?Itemid=111&amp;tmpl=component">This event was imported 
 from: https://www.live.nelsontrampingclub.org.nz/component/jevents/922/sadd
 le-hill-the-doubles-exploration?Itemid=111&amp;tmpl=component</a>DTSTAMP:20260419T231100
DTSTART;VALUE=DATE:20210418
DTEND;VALUE=DATE:20210419
SEQUENCE:0
TRANSP:OPAQUE
END:VEVENT
END:VCALENDAR