BEGIN:VCALENDAR
VERSION:2.0
PRODID:-//jEvents 2.0 for Joomla//EN
CALSCALE:GREGORIAN
METHOD:PUBLISH
BEGIN:VEVENT
UID:73a3f8912968239dc09d6bcd7da41bbe
CATEGORIES:Overnight Trip
CREATED:20210107T095159
SUMMARY:MT Pinnacle. Leatham Valley. Joint Trip with MTC
URL;VALUE=URI:https://www.live.nelsontrampingclub.org.nz/component/jevents/883/mt-pinnacl
 e-leatham-valley-joint-trip-with-mtc?Itemid=111&amp;tmpl=component
DESCRIPTION:Hi Guys\n Come join merry men and woman for this late notice trip.\nSaturda
 y late morning drive to Boulder Stream car park. From there you can bike or
  hour and half walk to Boulder forks Hut. Take tents. Meets MTC there or en
  route.\nnext day climb Pinncle 1 Plus grade, several options. Home Sunday 
 night. Must be known to me please to come along, unless you just want to co
 me to the hut.\n\n \n This event was imported from: https://www.live.nelson
 trampingclub.org.nz/component/jevents/883/mt-pinnacle-leatham-valley-joint-
 trip-with-mtc?Itemid=111&amp;tmpl=component
X-ALT-DESC;FMTTYPE=text/html:<p>Hi Guys</p><p>&nbsp;Come join merry men and woman for this late notice t
 rip.</p><p>Saturday late morning drive to Boulder Stream car park. From the
 re you can bike or hour and half walk to Boulder forks Hut. Take tents. Mee
 ts MTC there or en route.</p><p>next day climb Pinncle 1 Plus grade, severa
 l options. Home Sunday night. Must be known to me please to come along, unl
 ess you just want to come to the hut.</p><p></p><p>&nbsp;</p> <a href="http
 s://www.live.nelsontrampingclub.org.nz/component/jevents/883/mt-pinnacle-le
 atham-valley-joint-trip-with-mtc?Itemid=111&amp;tmpl=component">This event 
 was imported from: https://www.live.nelsontrampingclub.org.nz/component/jev
 ents/883/mt-pinnacle-leatham-valley-joint-trip-with-mtc?Itemid=111&amp;tmpl
 =component</a>DTSTAMP:20260419T231816
DTSTART;VALUE=DATE:20210109
DTEND;VALUE=DATE:20210111
SEQUENCE:0
TRANSP:OPAQUE
END:VEVENT
END:VCALENDAR