BEGIN:VCALENDAR
VERSION:2.0
PRODID:-//jEvents 2.0 for Joomla//EN
CALSCALE:GREGORIAN
METHOD:PUBLISH
BEGIN:VEVENT
UID:fa14a9fa5cb56116f4576b19edc52a82
CATEGORIES:Day Trip
CREATED:20191227T035239
SUMMARY:Mt Malita, Aniseed Valley
URL;VALUE=URI:https://www.live.nelsontrampingclub.org.nz/component/jevents/78/mt-malita,-
 aniseed-valley?Itemid=111&amp;tmpl=component
DESCRIPTION:Sunday. From the Roding River road end. On forestry roads with a scramble t
 o the top through long grass and rock outcrops. Good views. 750m climb. 5km
  there and back.    \n This event was imported from: https://www.live.nelso
 ntrampingclub.org.nz/component/jevents/78/mt-malita,-aniseed-valley?Itemid=
 111&amp;tmpl=component
X-ALT-DESC;FMTTYPE=text/html:<p>Sunday. From the Roding River road end. On forestry roads with a scrambl
 e to the top&nbsp;through long grass and rock outcrops. Good views. 750m cl
 imb. 5km there and back.&nbsp; &nbsp;&nbsp;</p> <a href="https://www.live.n
 elsontrampingclub.org.nz/component/jevents/78/mt-malita,-aniseed-valley?Ite
 mid=111&amp;tmpl=component">This event was imported from: https://www.live.
 nelsontrampingclub.org.nz/component/jevents/78/mt-malita,-aniseed-valley?It
 emid=111&amp;tmpl=component</a>DTSTAMP:20260419T231035
DTSTART;VALUE=DATE:20120805
DTEND;VALUE=DATE:20120806
SEQUENCE:0
TRANSP:OPAQUE
END:VEVENT
END:VCALENDAR