BEGIN:VCALENDAR
VERSION:2.0
PRODID:-//jEvents 2.0 for Joomla//EN
CALSCALE:GREGORIAN
METHOD:PUBLISH
BEGIN:VEVENT
UID:9276d9953303e6a8f7cdb2e4dd9400a3
CATEGORIES:Day Trip
CREATED:20191227T035332
SUMMARY:Cable Bay Adventure Park
URL;VALUE=URI:https://www.live.nelsontrampingclub.org.nz/component/jevents/730/cable-bay-
 adventure-park?Itemid=111&amp;tmpl=component
DESCRIPTION:In the Cable Bay Adventure Park we climb a newly cleared walking track. The
  route is steep at places, but not very long. NOTE: DATE CHANGE\nAlong the 
 way to Blue Hill we will cross the various park activities. Near the peak w
 e will have lovely views out to the sea and surrounding areas. \nFor those 
 who want to ride the Sky wire, it can be arranged when we get back to the s
 tart, where we can also finish with refreshments at the on-site cafe. \n Th
 is event was imported from: https://www.live.nelsontrampingclub.org.nz/comp
 onent/jevents/730/cable-bay-adventure-park?Itemid=111&amp;tmpl=component
X-ALT-DESC;FMTTYPE=text/html:<p>In the Cable Bay Adventure Park we climb a newly cleared walking track. 
 The route is steep at places, but not very long. NOTE: DATE CHANGE</p><p>Al
 ong the way to Blue Hill we will cross the various park activities. Near th
 e peak we will have lovely views out to the sea and surrounding areas.&nbsp
 ;</p><p>For those who want to ride the Sky wire, it can be arranged when we
  get back to the start, where we can also finish with refreshments at the o
 n-site cafe.&nbsp;</p> <a href="https://www.live.nelsontrampingclub.org.nz/
 component/jevents/730/cable-bay-adventure-park?Itemid=111&amp;tmpl=componen
 t">This event was imported from: https://www.live.nelsontrampingclub.org.nz
 /component/jevents/730/cable-bay-adventure-park?Itemid=111&amp;tmpl=compone
 nt</a>DTSTAMP:20260420T005126
DTSTART:20200308T080000
DTEND:20200308T170000
SEQUENCE:0
TRANSP:OPAQUE
END:VEVENT
END:VCALENDAR