BEGIN:VCALENDAR
VERSION:2.0
PRODID:-//jEvents 2.0 for Joomla//EN
CALSCALE:GREGORIAN
METHOD:PUBLISH
BEGIN:VEVENT
UID:0b5e80118cab1d25671577c00829a1da
CATEGORIES:Day Trip
CREATED:20191227T035238
SUMMARY:Fringed Hill fr Brook
URL;VALUE=URI:https://www.live.nelsontrampingclub.org.nz/component/jevents/71/fringed-hil
 l-fr-brook?Itemid=111&amp;tmpl=component
DESCRIPTION:From the Brook dam, up Corkscrew Creek track to Third House and then to the
  summit of Fringed Hill. Return via Cummins Spur. 740m climb.  \n This even
 t was imported from: https://www.live.nelsontrampingclub.org.nz/component/j
 events/71/fringed-hill-fr-brook?Itemid=111&amp;tmpl=component
X-ALT-DESC;FMTTYPE=text/html:<p>From the Brook dam, up&nbsp;Corkscrew Creek track to Third House and&nbs
 p;then to the summit of Fringed Hill. Return via Cummins Spur. 740m climb. 
 &nbsp;</p> <a href="https://www.live.nelsontrampingclub.org.nz/component/je
 vents/71/fringed-hill-fr-brook?Itemid=111&amp;tmpl=component">This event wa
 s imported from: https://www.live.nelsontrampingclub.org.nz/component/jeven
 ts/71/fringed-hill-fr-brook?Itemid=111&amp;tmpl=component</a>DTSTAMP:20260419T231015
DTSTART;VALUE=DATE:20120707
DTEND;VALUE=DATE:20120708
SEQUENCE:0
TRANSP:OPAQUE
END:VEVENT
END:VCALENDAR