BEGIN:VCALENDAR
VERSION:2.0
PRODID:-//jEvents 2.0 for Joomla//EN
CALSCALE:GREGORIAN
METHOD:PUBLISH
BEGIN:VEVENT
UID:d837b046d06a27353b40d809aafa19cb
CATEGORIES:Day Trip
CREATED:20191227T035329
SUMMARY:Nydia Saddle
URL;VALUE=URI:https://www.live.nelsontrampingclub.org.nz/component/jevents/698/nydia-sadd
 le?Itemid=111&amp;tmpl=component
DESCRIPTION:From Duncan Bay a fairly flat track leads around a Peninsula with pleasant 
 water views through lush bush. After a climb we reach the Saddle of 347m, m
 ight get a glimpse down to Nydia Bay, and return the same way 9km. 4 - 5 hr
 s\n This event was imported from: https://www.live.nelsontrampingclub.org.n
 z/component/jevents/698/nydia-saddle?Itemid=111&amp;tmpl=component
X-ALT-DESC;FMTTYPE=text/html:<p>From Duncan Bay a fairly flat track leads around a Peninsula with pleasa
 nt water views through lush bush. After a climb we reach the Saddle of 347m
 , might get a glimpse down to Nydia Bay, and return the same way <span styl
 e="color: #333333; font-family: Verdana, 'Bitstream Vera Sans', Arial, Helv
 etica, sans-serif; font-size: 11.96px; background-color: #ffffff;">9km</spa
 n>. 4 - 5 hrs</p> <a href="https://www.live.nelsontrampingclub.org.nz/compo
 nent/jevents/698/nydia-saddle?Itemid=111&amp;tmpl=component">This event was
  imported from: https://www.live.nelsontrampingclub.org.nz/component/jevent
 s/698/nydia-saddle?Itemid=111&amp;tmpl=component</a>DTSTAMP:20260419T232730
DTSTART;VALUE=DATE:20191123
DTEND;VALUE=DATE:20191124
SEQUENCE:0
TRANSP:OPAQUE
END:VEVENT
END:VCALENDAR