BEGIN:VCALENDAR
VERSION:2.0
PRODID:-//jEvents 2.0 for Joomla//EN
CALSCALE:GREGORIAN
METHOD:PUBLISH
BEGIN:VEVENT
UID:bd50ec0e55cc3b4f706fc56e12b3f03f
CATEGORIES:Overnight Trip
CREATED:20191227T035328
SUMMARY:St. Arnard Range
URL;VALUE=URI:https://www.live.nelsontrampingclub.org.nz/component/jevents/693/st-arnard-
 range?Itemid=111&amp;tmpl=component
DESCRIPTION:St Arnard range traverse. Overnight in tents next to a tarn.\nmore details 
 to come.\n This event was imported from: https://www.live.nelsontrampingclu
 b.org.nz/component/jevents/693/st-arnard-range?Itemid=111&amp;tmpl=componen
 t
X-ALT-DESC;FMTTYPE=text/html:<p>St Arnard range traverse. Overnight in tents next to a tarn.</p><p>more 
 details to come.</p> <a href="https://www.live.nelsontrampingclub.org.nz/co
 mponent/jevents/693/st-arnard-range?Itemid=111&amp;tmpl=component">This eve
 nt was imported from: https://www.live.nelsontrampingclub.org.nz/component/
 jevents/693/st-arnard-range?Itemid=111&amp;tmpl=component</a>DTSTAMP:20260419T230048
DTSTART;VALUE=DATE:20200118
DTEND;VALUE=DATE:20200119
SEQUENCE:0
TRANSP:OPAQUE
END:VEVENT
END:VCALENDAR