BEGIN:VCALENDAR
VERSION:2.0
PRODID:-//jEvents 2.0 for Joomla//EN
CALSCALE:GREGORIAN
METHOD:PUBLISH
BEGIN:VEVENT
UID:0e1eb63c2c86f8fed7e3cf5dcb8c5e38
CATEGORIES:Day Trip
CREATED:20191227T035326
SUMMARY:Beebys Knob
URL;VALUE=URI:https://www.live.nelsontrampingclub.org.nz/component/jevents/666/beebys-kno
 b?Itemid=111&amp;tmpl=component
DESCRIPTION:Walk up to Beeby Knob.  A nice walk through the bush until we reach the rid
 ge to Beeby Knob. If we wanted to extend the walk and go to Been Hut.\n Thi
 s event was imported from: https://www.live.nelsontrampingclub.org.nz/compo
 nent/jevents/666/beebys-knob?Itemid=111&amp;tmpl=component
X-ALT-DESC;FMTTYPE=text/html:<p>Walk up to Beeby Knob.&nbsp; A nice walk through the bush until we reach
  the ridge to Beeby Knob. If we wanted to extend the walk and go to Been Hu
 t.</p> <a href="https://www.live.nelsontrampingclub.org.nz/component/jevent
 s/666/beebys-knob?Itemid=111&amp;tmpl=component">This event was imported fr
 om: https://www.live.nelsontrampingclub.org.nz/component/jevents/666/beebys
 -knob?Itemid=111&amp;tmpl=component</a>DTSTAMP:20260420T004346
DTSTART;VALUE=DATE:20190106
DTEND;VALUE=DATE:20190107
SEQUENCE:0
TRANSP:OPAQUE
END:VEVENT
END:VCALENDAR