BEGIN:VCALENDAR
VERSION:2.0
PRODID:-//jEvents 2.0 for Joomla//EN
CALSCALE:GREGORIAN
METHOD:PUBLISH
BEGIN:VEVENT
UID:1cde2bdf629b9b5b9b02def021e7a7e3
CATEGORIES:Day Trip
CREATED:20191227T035324
SUMMARY:Mt Arthur Peak
URL;VALUE=URI:https://www.live.nelsontrampingclub.org.nz/component/jevents/653/mt-arthur-
 peak?Itemid=111&amp;tmpl=component
DESCRIPTION:A climb up one of Nelson's most accessible mountains. Plan is to traverse t
 he summit, going up by the regular route and descending via the north-east 
 ridge, with a slight diversion through the hole in the wall into Horseshoe 
 Basin, then joining the Gordons Pyramid track back up to the main track.\n 
 This event was imported from: https://www.live.nelsontrampingclub.org.nz/co
 mponent/jevents/653/mt-arthur-peak?Itemid=111&amp;tmpl=component
X-ALT-DESC;FMTTYPE=text/html:<p><span style="color: #333333; font-family: Verdana, 'Bitstream Vera Sans'
 , Arial, Helvetica, sans-serif; font-size: 11.96px; background-color: #ffff
 ff;">A climb up one of Nelson's most accessible mountains. Plan is to trave
 rse the summit, going up by the regular route and descending via the north-
 east ridge, with a slight diversion through the hole in the wall into Horse
 shoe Basin, then joining the Gordons Pyramid track back up to the main trac
 k.</span></p> <a href="https://www.live.nelsontrampingclub.org.nz/component
 /jevents/653/mt-arthur-peak?Itemid=111&amp;tmpl=component">This event was i
 mported from: https://www.live.nelsontrampingclub.org.nz/component/jevents/
 653/mt-arthur-peak?Itemid=111&amp;tmpl=component</a>DTSTAMP:20260419T231035
DTSTART;VALUE=DATE:20191124
DTEND;VALUE=DATE:20191125
SEQUENCE:0
TRANSP:OPAQUE
END:VEVENT
END:VCALENDAR