BEGIN:VCALENDAR
VERSION:2.0
PRODID:-//jEvents 2.0 for Joomla//EN
CALSCALE:GREGORIAN
METHOD:PUBLISH
BEGIN:VEVENT
UID:c79b298408793e1ba2e8aa08b89f1841
CATEGORIES:Day Trip
CREATED:20191227T035323
SUMMARY:Mt Arthur 
URL;VALUE=URI:https://www.live.nelsontrampingclub.org.nz/component/jevents/635/mt-arthur?
 Itemid=111&amp;tmpl=component
DESCRIPTION:A climb up one of Nelson's most accessible mountains. Plan is to traverse t
 he summit, going up by the regular route and descending via the north-east 
 ridge, with a slight diversion through the hole in the wall into Horseshoe 
 Basin, then joining the Gordons Pyramid track back up to the main track.\n 
 This event was imported from: https://www.live.nelsontrampingclub.org.nz/co
 mponent/jevents/635/mt-arthur?Itemid=111&amp;tmpl=component
X-ALT-DESC;FMTTYPE=text/html:<p>A climb up one of Nelson's most accessible mountains. Plan is to travers
 e the summit, going up by the regular route and descending via the north-ea
 st ridge, with a slight diversion through the hole in the wall into Horsesh
 oe Basin, then joining the Gordons Pyramid track back up to the main track.
 </p> <a href="https://www.live.nelsontrampingclub.org.nz/component/jevents/
 635/mt-arthur?Itemid=111&amp;tmpl=component">This event was imported from: 
 https://www.live.nelsontrampingclub.org.nz/component/jevents/635/mt-arthur?
 Itemid=111&amp;tmpl=component</a>DTSTAMP:20260420T005421
DTSTART;VALUE=DATE:20190324
DTEND;VALUE=DATE:20190325
SEQUENCE:0
TRANSP:OPAQUE
END:VEVENT
END:VCALENDAR