BEGIN:VCALENDAR
VERSION:2.0
PRODID:-//jEvents 2.0 for Joomla//EN
CALSCALE:GREGORIAN
METHOD:PUBLISH
BEGIN:VEVENT
UID:1ece9d1bfea766fee62eb35599241f92
CATEGORIES:Day Trip
CREATED:20191227T035238
SUMMARY:Lodestone, Arthur Range
URL;VALUE=URI:https://www.live.nelsontrampingclub.org.nz/component/jevents/63/lodestone,-
 arthur-range?Itemid=111&amp;tmpl=component
DESCRIPTION:From the Flora car park, a steady climb to the top of Lodestone. Then a dec
 ent to Flora Hut and an easy return to the start over Flora Saddle.  500m c
 limb over 7km.  Approx 5hrs. \n This event was imported from: https://www.l
 ive.nelsontrampingclub.org.nz/component/jevents/63/lodestone,-arthur-range?
 Itemid=111&amp;tmpl=component
X-ALT-DESC;FMTTYPE=text/html:<p>From the Flora car park, a steady climb to the top of Lodestone.&nbsp;Th
 en a decent to Flora Hut and an easy&nbsp;return to the start over Flora Sa
 ddle.&nbsp; 500m climb&nbsp;over 7km.&nbsp; Approx 5hrs.&nbsp;</p> <a href=
 "https://www.live.nelsontrampingclub.org.nz/component/jevents/63/lodestone,
 -arthur-range?Itemid=111&amp;tmpl=component">This event was imported from: 
 https://www.live.nelsontrampingclub.org.nz/component/jevents/63/lodestone,-
 arthur-range?Itemid=111&amp;tmpl=component</a>DTSTAMP:20260419T231015
DTSTART;VALUE=DATE:20120603
DTEND;VALUE=DATE:20120604
SEQUENCE:0
TRANSP:OPAQUE
END:VEVENT
END:VCALENDAR