BEGIN:VCALENDAR
VERSION:2.0
PRODID:-//jEvents 2.0 for Joomla//EN
CALSCALE:GREGORIAN
METHOD:PUBLISH
BEGIN:VEVENT
UID:c626ca58a3d35e50d0a6e73a550405a0
CATEGORIES:Extended Trip
CREATED:20191227T035320
SUMMARY:Golden Bay
URL;VALUE=URI:https://www.live.nelsontrampingclub.org.nz/component/jevents/606/golden-bay
 ?Itemid=111&amp;tmpl=component
DESCRIPTION:Contact: This email address is being protected from spambots. You need Java
 Script enabled to view it.\nCan be a short or long weekend to suit individu
 als, coming over anytime from Thursday, and leaving on Sunday. Stay at Bria
 n's home (can be viewed on www.bookabach.co.nz ref 28830) and use it as a b
 ase for day trips. King bed in one room and 4 singles in the other (linen a
 nd bedding provided), plus room for a mattress or two in the lounge if need
 ed. Tents can be pitched on the lawn. $20pp/night for beds, $5pp/night for 
 campers.\nActivities include day tramps, sightseeing, mountain biking and w
 ater sports. kayaks and row boat available and included. Craft can be launc
 hed/recovered from Brian's shoreline within 2 hours of high water.\nDay tra
 mp suggestions are: Rawhiti Cave, Wharariki/Farewell (crossover?), ATNP Nor
 th end, Pupu Valley Walkway and Springs, Druggans Dam, Rameka Track (could 
 do on way to/from Nelson, walk or bike), Kaituna Track, Milnthorpe, your id
 eas...\n This event was imported from: https://www.live.nelsontrampingclub.
 org.nz/component/jevents/606/golden-bay?Itemid=111&amp;tmpl=component
X-ALT-DESC;FMTTYPE=text/html:<p><em>Contact: <strong><joomla-hidden-mail  is-link="1" is-email="1" first
 ="YnJlbndpY2sy" last="aWNsb3VkLmNvbQ==" text="YnJlbndpY2syQGljbG91ZC5jb20="
  base="" >This email address is being protected from spambots. You need Jav
 aScript enabled to view it.</joomla-hidden-mail></strong></em></p><p>Can be
  a short or long weekend to suit individuals, coming over anytime from Thur
 sday, and leaving on Sunday. Stay at Brian's home (can be viewed on www.boo
 kabach.co.nz ref 28830) and use it as a base for day trips. King bed in one
  room and 4 singles in the other (linen and bedding provided), plus room fo
 r a mattress or two in the lounge if needed. Tents can be pitched on the la
 wn. $20pp/night for beds, $5pp/night for campers.</p><p>Activities include 
 day tramps, sightseeing, mountain biking and water sports. kayaks and row b
 oat available and included. Craft can be launched/recovered from Brian's sh
 oreline within 2 hours of high water.</p><p>Day tramp suggestions are: Rawh
 iti Cave, Wharariki/Farewell (crossover?), ATNP North end, Pupu Valley Walk
 way and Springs, Druggans Dam, Rameka Track (could do on way to/from Nelson
 , walk or bike), Kaituna Track, Milnthorpe, your ideas...</p> <a href="http
 s://www.live.nelsontrampingclub.org.nz/component/jevents/606/golden-bay?Ite
 mid=111&amp;tmpl=component">This event was imported from: https://www.live.
 nelsontrampingclub.org.nz/component/jevents/606/golden-bay?Itemid=111&amp;t
 mpl=component</a>DTSTAMP:20260419T231053
DTSTART;VALUE=DATE:20180830
DTEND;VALUE=DATE:20180902
SEQUENCE:0
TRANSP:OPAQUE
END:VEVENT
END:VCALENDAR