BEGIN:VCALENDAR
VERSION:2.0
PRODID:-//jEvents 2.0 for Joomla//EN
CALSCALE:GREGORIAN
METHOD:PUBLISH
BEGIN:VEVENT
UID:b87b27aa88129b34f627eeb022572ca5
CATEGORIES:Day Trip
CREATED:20191227T035318
SUMMARY:Tour de Grampians
URL;VALUE=URI:https://www.live.nelsontrampingclub.org.nz/component/jevents/584/tour-de-gr
 ampians?Itemid=111&amp;tmpl=component
DESCRIPTION:High-level circum-navigation of Mt Flaxmore using a dozen different tracks.
  Detour to the top if you want. This leg-stretcher should take between 2 &a
 mp; 3 hours.\n This event was imported from: https://www.live.nelsontrampin
 gclub.org.nz/component/jevents/584/tour-de-grampians?Itemid=111&amp;tmpl=co
 mponent
X-ALT-DESC;FMTTYPE=text/html:<p>High-level circum-navigation of Mt Flaxmore using a dozen different trac
 ks. Detour to the top if you want. This leg-stretcher should take between 2
  &amp; 3 hours.</p> <a href="https://www.live.nelsontrampingclub.org.nz/com
 ponent/jevents/584/tour-de-grampians?Itemid=111&amp;tmpl=component">This ev
 ent was imported from: https://www.live.nelsontrampingclub.org.nz/component
 /jevents/584/tour-de-grampians?Itemid=111&amp;tmpl=component</a>DTSTAMP:20260420T010146
DTSTART;VALUE=DATE:20181202
DTEND;VALUE=DATE:20181203
SEQUENCE:0
TRANSP:OPAQUE
END:VEVENT
END:VCALENDAR