BEGIN:VCALENDAR
VERSION:2.0
PRODID:-//jEvents 2.0 for Joomla//EN
CALSCALE:GREGORIAN
METHOD:PUBLISH
BEGIN:VEVENT
UID:e92cf1c6c852beecf44fdf5fed37e01b
CATEGORIES:Day Trip
CREATED:20191227T035318
SUMMARY:Brook Sanctuary
URL;VALUE=URI:https://www.live.nelsontrampingclub.org.nz/component/jevents/581/brook-sanc
 tuary?Itemid=111&amp;tmpl=component
DESCRIPTION:Come and walk in the Sanctuary. The predators have been eliminated, the bir
 d numbers are increasing, there are some great tracks.\nWe will walk along 
 the valley floor, then take a spur (steep initially) to the top boundary 85
 0M, traverse the boundary before returning down another spur to the valley 
 floor.\n This event was imported from: https://www.live.nelsontrampingclub.
 org.nz/component/jevents/581/brook-sanctuary?Itemid=111&amp;tmpl=component
X-ALT-DESC;FMTTYPE=text/html:<p>Come and walk in the Sanctuary. The predators have been eliminated, the 
 bird numbers are increasing, there are some great tracks.</p><p>We will wal
 k along the valley floor, then take a spur (steep initially) to the top bou
 ndary 850M, traverse the boundary before returning down another spur to the
  valley floor.</p> <a href="https://www.live.nelsontrampingclub.org.nz/comp
 onent/jevents/581/brook-sanctuary?Itemid=111&amp;tmpl=component">This event
  was imported from: https://www.live.nelsontrampingclub.org.nz/component/je
 vents/581/brook-sanctuary?Itemid=111&amp;tmpl=component</a>DTSTAMP:20260420T005319
DTSTART;VALUE=DATE:20181028
DTEND;VALUE=DATE:20181029
SEQUENCE:0
TRANSP:OPAQUE
END:VEVENT
END:VCALENDAR