BEGIN:VCALENDAR
VERSION:2.0
PRODID:-//jEvents 2.0 for Joomla//EN
CALSCALE:GREGORIAN
METHOD:PUBLISH
BEGIN:VEVENT
UID:3fa9ac8f88e762a0eaa58dc32021d15d
CATEGORIES:Day Trip
CREATED:20191227T035314
SUMMARY:Wooded Peak/Fringe Hill
URL;VALUE=URI:https://www.live.nelsontrampingclub.org.nz/component/jevents/531/wooded-pea
 k-fringe-hill?Itemid=111&amp;tmpl=component
DESCRIPTION:Sunday\nFrom the top of Brook Street, climb the roadway up to the Dun Walkw
 ay then along to Third House. A couple of km towards Coppermine Saddle we t
 ake a left turn for the steep climb to the top of Wooded Peak (1111m) then 
 descend to Windy Point. The return route takes us back along the walkway to
  the junction to pick up the Black Diamond Ridge track over to Fringe Hill 
 and then down the Fringe Hill Classic MTB track back to the Brook. Approx. 
 1200m of climbing over 25km. About 7-8 hours.\n This event was imported fro
 m: https://www.live.nelsontrampingclub.org.nz/component/jevents/531/wooded-
 peak-fringe-hill?Itemid=111&amp;tmpl=component
X-ALT-DESC;FMTTYPE=text/html:<p><em>Sunday</em></p><p>From the top of Brook Street, climb the roadway up
  to the Dun Walkway then along to Third House. A couple of km towards Coppe
 rmine Saddle we take a left turn for the steep climb to the top of Wooded P
 eak (1111m) then descend to Windy Point. The return route takes us back alo
 ng the walkway to the junction to pick up the Black Diamond Ridge track ove
 r to Fringe Hill and then down the Fringe Hill Classic MTB track back to th
 e Brook. Approx. 1200m of climbing over 25km. About 7-8 hours.</p> <a href=
 "https://www.live.nelsontrampingclub.org.nz/component/jevents/531/wooded-pe
 ak-fringe-hill?Itemid=111&amp;tmpl=component">This event was imported from:
  https://www.live.nelsontrampingclub.org.nz/component/jevents/531/wooded-pe
 ak-fringe-hill?Itemid=111&amp;tmpl=component</a>DTSTAMP:20260419T220200
DTSTART;VALUE=DATE:20170910
DTEND;VALUE=DATE:20170911
SEQUENCE:0
TRANSP:OPAQUE
END:VEVENT
END:VCALENDAR