BEGIN:VCALENDAR
VERSION:2.0
PRODID:-//jEvents 2.0 for Joomla//EN
CALSCALE:GREGORIAN
METHOD:PUBLISH
BEGIN:VEVENT
UID:faaf389d50328d3c823355ba47736405
CATEGORIES:Overnight Trip
CREATED:20191227T035313
SUMMARY:Navigation training
URL;VALUE=URI:https://www.live.nelsontrampingclub.org.nz/component/jevents/527/navigation
 -training?Itemid=111&amp;tmpl=component
DESCRIPTION:Want to learn navigation or have a refresher and polish up your current ski
 lls?  This weekend will offer something for everyone, no matter what level 
 you are at with navigation.  Starting off with the basics, this weekend wil
 l become more challenging as it progresses.\n \nDay 1 (in Nelson) –  Learni
 ng the basics, learning how to view and identify the features on a map, com
 pass use, setting your map to the ground, route planning, magnetic and grid
  bearings, along with triangulation and micro navigation giving participant
 s the skills to deal with challenging terrain.\n \nDay 2 (out of town) – Se
 tting off from Nelson to a practical day in the hills putting skills into p
 ractice learnt on day 1.\n \nCost for club members $25.  Priority will be g
 iven to club members in the first instance for this training.\nTo register 
 interest or for any queries please contact Liz on This email address is bei
 ng protected from spambots. You need JavaScript enabled to view it.\nOnce y
 ou have registered for this training details will be sent of location, equi
 pment required etc.\n This event was imported from: https://www.live.nelson
 trampingclub.org.nz/component/jevents/527/navigation-training?Itemid=111&am
 p;tmpl=component
X-ALT-DESC;FMTTYPE=text/html:<p>Want to learn navigation or have a refresher and polish up your current 
 skills?&nbsp; This weekend will offer something for everyone, no matter wha
 t level you are at with navigation.&nbsp; Starting off with the basics, thi
 s weekend will become more challenging as it progresses.</p><p>&nbsp;</p><p
 >Day 1 (in Nelson) – &nbsp;Learning the basics, learning how to view and id
 entify the features on a map, compass use, setting your map to the ground, 
 route planning, magnetic and grid bearings, along with triangulation and mi
 cro navigation giving participants the skills to deal with challenging terr
 ain.</p><p>&nbsp;</p><p>Day 2 (out of town) – Setting off from Nelson to a 
 practical day in the hills putting skills into practice learnt on day 1.</p
 ><p>&nbsp;</p><p>Cost for club members $25.&nbsp; Priority will be given to
  club members in the first instance for this training.</p><p>To register in
 terest or for any queries please contact Liz on <joomla-hidden-mail  is-lin
 k="1" is-email="1" first="bGl6aGVuZGVyc29uMjAxMg==" last="Z29vZ2xlbWFpbC5jb
 20=" text="bGl6aGVuZGVyc29uMjAxMkBnb29nbGVtYWlsLmNvbQ==" base="" >This emai
 l address is being protected from spambots. You need JavaScript enabled to 
 view it.</joomla-hidden-mail></p><p>Once you have registered for this train
 ing details will be sent of location, equipment required etc.</p> <a href="
 https://www.live.nelsontrampingclub.org.nz/component/jevents/527/navigation
 -training?Itemid=111&amp;tmpl=component">This event was imported from: http
 s://www.live.nelsontrampingclub.org.nz/component/jevents/527/navigation-tra
 ining?Itemid=111&amp;tmpl=component</a>DTSTAMP:20260420T004435
DTSTART;VALUE=DATE:20171014
DTEND;VALUE=DATE:20171015
SEQUENCE:0
TRANSP:OPAQUE
END:VEVENT
END:VCALENDAR