BEGIN:VCALENDAR
VERSION:2.0
PRODID:-//jEvents 2.0 for Joomla//EN
CALSCALE:GREGORIAN
METHOD:PUBLISH
BEGIN:VEVENT
UID:9500b08010315139af67835151ed2648
CATEGORIES:Extended Trip
CREATED:20191227T035311
SUMMARY:Golden Bay
URL;VALUE=URI:https://www.live.nelsontrampingclub.org.nz/component/jevents/497/golden-bay
 ?Itemid=111&amp;tmpl=component
DESCRIPTION:Contact: This email address is being protected from spambots. You need Java
 Script enabled to view it.\nCan be a short or long weekend to suit individu
 als, coming over anytime from Thursday, and leaving on Sunday, Monday or Tu
 esday. Stay at Brian's home (can be viewed on www.bookabach.co.nz ref 28830
 ) and use it as a base for day trips. King bed in one room and 4 singles in
  the other (linen and bedding provided), plus room for a mattress or two in
  the lounge if needed. Tents can be pitched on the lawn. $20pp/night for be
 ds, $5pp/night for campers.\nActivities include day tramps, sightseeing, mo
 untain biking and water sports. Water craft available and included. Craft c
 an be launched/recovered from Brian's shoreline within 2 hours of high wate
 r.\n This event was imported from: https://www.live.nelsontrampingclub.org.
 nz/component/jevents/497/golden-bay?Itemid=111&amp;tmpl=component
X-ALT-DESC;FMTTYPE=text/html:<p><em>Contact: <strong><joomla-hidden-mail  is-link="1" is-email="1" first
 ="YnJlbndpY2sy" last="aWNsb3VkLmNvbQ==" text="YnJlbndpY2syQGljbG91ZC5jb20="
  base="" >This email address is being protected from spambots. You need Jav
 aScript enabled to view it.</joomla-hidden-mail></strong></em></p><p>Can be
  a short or long weekend to suit individuals, coming over anytime from Thur
 sday, and leaving on Sunday, Monday or Tuesday. Stay at Brian's home (can b
 e viewed on www.bookabach.co.nz ref 28830) and use it as a base for day tri
 ps. King bed in one room and 4 singles in the other (linen and bedding prov
 ided), plus room for a mattress or two in the lounge if needed. Tents can b
 e pitched on the lawn. $20pp/night for beds, $5pp/night for campers.</p><p>
 Activities include day tramps, sightseeing, mountain biking and water sport
 s. Water craft available and included. Craft can be launched/recovered from
  Brian's shoreline within 2 hours of high water.</p> <a href="https://www.l
 ive.nelsontrampingclub.org.nz/component/jevents/497/golden-bay?Itemid=111&a
 mp;tmpl=component">This event was imported from: https://www.live.nelsontra
 mpingclub.org.nz/component/jevents/497/golden-bay?Itemid=111&amp;tmpl=compo
 nent</a>DTSTAMP:20260419T220200
DTSTART;VALUE=DATE:20170811
DTEND;VALUE=DATE:20170814
SEQUENCE:0
TRANSP:OPAQUE
END:VEVENT
END:VCALENDAR