BEGIN:VCALENDAR
VERSION:2.0
PRODID:-//jEvents 2.0 for Joomla//EN
CALSCALE:GREGORIAN
METHOD:PUBLISH
BEGIN:VEVENT
UID:b52c6f363931d4732a1f53cecc99c9a3
CATEGORIES:Day Trip
CREATED:20191227T035310
SUMMARY:Barnicoat/Involution
URL;VALUE=URI:https://www.live.nelsontrampingclub.org.nz/component/jevents/481/barnicoat-
 involution?Itemid=111&amp;tmpl=component
DESCRIPTION:MID-WEEK WALK\nTuesday\nFrom the top of Marsdan Valley Road, walk up the Ba
 rnicoat Walkway to the hang gliding area at the top of the hill for great v
 iews of the Nelson coastline. We will return via the ridge to Jenkins Hill 
 and down the Involution MTB track. Should take approx. 3-4 hours.\n This ev
 ent was imported from: https://www.live.nelsontrampingclub.org.nz/component
 /jevents/481/barnicoat-involution?Itemid=111&amp;tmpl=component
X-ALT-DESC;FMTTYPE=text/html:<p><strong>MID-WEEK WALK</strong></p><p><em>Tuesday</em></p><p>From the top
  of Marsdan Valley Road, walk up the Barnicoat Walkway to the hang gliding 
 area at the top of the hill for great views of the Nelson coastline. We wil
 l return via the ridge to Jenkins Hill and down the Involution MTB track. S
 hould take approx. 3-4 hours.</p> <a href="https://www.live.nelsontrampingc
 lub.org.nz/component/jevents/481/barnicoat-involution?Itemid=111&amp;tmpl=c
 omponent">This event was imported from: https://www.live.nelsontrampingclub
 .org.nz/component/jevents/481/barnicoat-involution?Itemid=111&amp;tmpl=comp
 onent</a>DTSTAMP:20260420T004208
DTSTART;VALUE=DATE:20170221
DTEND;VALUE=DATE:20170222
SEQUENCE:0
TRANSP:OPAQUE
END:VEVENT
END:VCALENDAR