BEGIN:VCALENDAR
VERSION:2.0
PRODID:-//jEvents 2.0 for Joomla//EN
CALSCALE:GREGORIAN
METHOD:PUBLISH
BEGIN:VEVENT
UID:6935f0553ab2ccd2d08134cad26089af
CATEGORIES:Overnight Trip
CREATED:20191227T035309
SUMMARY:Lees Creek Hut
URL;VALUE=URI:https://www.live.nelsontrampingclub.org.nz/component/jevents/474/lees-creek
 -hut?Itemid=111&amp;tmpl=component
DESCRIPTION:From the Rainbow Road, over the Wairau River swing bridge and up Lees Creek
  on a good track. Options are to spend the night in the hut (4 bunks) or pr
 ess on another 20 min to the Forks where there is an excellent camp site. O
 n Sunday morning we will explore further up the valley possibly to the tarn
 s under the Mangerton Ridge. Out same route in the afternoon. A gem of a va
 lley with easy travel and no great height gain. $25 gate fee per car.  \n T
 his event was imported from: https://www.live.nelsontrampingclub.org.nz/com
 ponent/jevents/474/lees-creek-hut?Itemid=111&amp;tmpl=component
X-ALT-DESC;FMTTYPE=text/html:<p><span style="color: #333333; font-family: Verdana, &quot;Bitstream Vera 
 Sans&quot;, Arial, Helvetica, sans-serif; font-size: 11.96px; background-co
 lor: #ffffff;">From the Rainbow Road, over the Wairau River swing bridge an
 d up Lees Creek on a good track. Options are to spend the night in the hut 
 (4 bunks) or press on another 20 min to the Forks where there is an excelle
 nt camp site. On Sunday morning we will explore further up the valley possi
 bly to the tarns under the Mangerton Ridge. Out same route in the afternoon
 . A gem of a valley with easy travel and no great height gain. $25 gate fee
  per car.&nbsp;&nbsp;</span></p> <a href="https://www.live.nelsontrampingcl
 ub.org.nz/component/jevents/474/lees-creek-hut?Itemid=111&amp;tmpl=componen
 t">This event was imported from: https://www.live.nelsontrampingclub.org.nz
 /component/jevents/474/lees-creek-hut?Itemid=111&amp;tmpl=component</a>DTSTAMP:20260420T005437
DTSTART;VALUE=DATE:20170218
DTEND;VALUE=DATE:20170219
SEQUENCE:0
TRANSP:OPAQUE
END:VEVENT
END:VCALENDAR