BEGIN:VCALENDAR
VERSION:2.0
PRODID:-//jEvents 2.0 for Joomla//EN
CALSCALE:GREGORIAN
METHOD:PUBLISH
BEGIN:VEVENT
UID:3a46499576e8990def1d36423f84d826
CATEGORIES:Extended Trip
CREATED:20191227T035309
SUMMARY:Easter in Arthur's Pass
URL;VALUE=URI:https://www.live.nelsontrampingclub.org.nz/component/jevents/469/easter-in-
 arthur-s-pass?Itemid=111&amp;tmpl=component
DESCRIPTION:Phone 539 3758(w) or leave message\nTHIS TRIP IS NOW FULL\nUPDATE\nI have b
 ooked the 13-bed CTC hut in Arthurs Pass. First come first served and have 
 13 signed up to date. Cost of the hut is $20pp per night.\nThere are many o
 ptions for different abilities. Andrea will be leading medium/hard mountain
  climbs, caving (Cave Stream) and mtbiking (Craigieburn) with an interested
  group.\nPeople can choose their own or small group walking options and be 
 responsible for themselves. However, it will also be a sociable evening tim
 e, so we can meet later in the day and share meals and maybe bring some ins
 truments to entertain(?), games, cards, etc.\n This event was imported from
 : https://www.live.nelsontrampingclub.org.nz/component/jevents/469/easter-i
 n-arthur-s-pass?Itemid=111&amp;tmpl=component
X-ALT-DESC;FMTTYPE=text/html:<p><em>Phone 539 3758(w) or leave message</em></p><p><strong><em>THIS TRIP 
 IS NOW FULL</em></strong></p><p>UPDATE</p><p>I have booked the 13-bed CTC h
 ut in Arthurs Pass. First come first served and have 13 signed up to date. 
 Cost of the hut is $20pp per night.</p><p>There are many options for differ
 ent abilities. Andrea will be leading medium/hard mountain climbs, caving (
 Cave Stream) and mtbiking (Craigieburn) with an interested group.</p><p>Peo
 ple can choose their own or small group walking options and be responsible 
 for themselves. However, it will also be a sociable evening time, so we can
  meet later in the day and share meals and maybe bring some instruments to 
 entertain(?), games, cards, etc.</p> <a href="https://www.live.nelsontrampi
 ngclub.org.nz/component/jevents/469/easter-in-arthur-s-pass?Itemid=111&amp;
 tmpl=component">This event was imported from: https://www.live.nelsontrampi
 ngclub.org.nz/component/jevents/469/easter-in-arthur-s-pass?Itemid=111&amp;
 tmpl=component</a>DTSTAMP:20260420T010258
DTSTART;VALUE=DATE:20170414
DTEND;VALUE=DATE:20170417
SEQUENCE:0
TRANSP:OPAQUE
END:VEVENT
END:VCALENDAR